BEGIN:VCALENDAR
VERSION:2.0
PRODID:-//Co-operative Management Institute [ICM Pune] - ECPv6.1.3//NONSGML v1.0//EN
CALSCALE:GREGORIAN
METHOD:PUBLISH
X-ORIGINAL-URL:https://www.icmpune.org/?lang=en
X-WR-CALDESC:Events for Co-operative Management Institute [ICM Pune]
REFRESH-INTERVAL;VALUE=DURATION:PT1H
X-Robots-Tag:noindex
X-PUBLISHED-TTL:PT1H
BEGIN:VTIMEZONE
TZID:America/Indiana/Indianapolis
BEGIN:DAYLIGHT
TZOFFSETFROM:-0500
TZOFFSETTO:-0400
TZNAME:EDT
DTSTART:20230312T070000
END:DAYLIGHT
BEGIN:STANDARD
TZOFFSETFROM:-0400
TZOFFSETTO:-0500
TZNAME:EST
DTSTART:20231105T060000
END:STANDARD
END:VTIMEZONE
BEGIN:VEVENT
DTSTART;VALUE=DATE:20231227
DTEND;VALUE=DATE:20231230
DTSTAMP:20260422T181805
CREATED:20230715T160057Z
LAST-MODIFIED:20230715T160057Z
UID:6485-1703635200-1703894399@www.icmpune.org
SUMMARY:Programme on Know Your Customer\, Prevention of Money Laundering and Customer Protection-for Clerks of banks Sponsored by NABARD Under SOFTCOB Scheme
DESCRIPTION:Duration:  3 Days \nCapacity: 25 \nSector: Cooperative Credit & Banking \nCourse  Coordinator: Mrs. Vijayshri M. Bhagawati
URL:https://www.icmpune.org/annual-programme/programme-on-know-your-customer-prevention-of-money-laundering-and-customer-protection-for-clerks-of-banks-sponsored-by-nabard-under-softcob-scheme/?lang=en
END:VEVENT
BEGIN:VEVENT
DTSTART;VALUE=DATE:20231229
DTEND;VALUE=DATE:20231230
DTSTAMP:20260422T181805
CREATED:20230715T160252Z
LAST-MODIFIED:20230715T160252Z
UID:6484-1703808000-1703894399@www.icmpune.org
SUMMARY:Workshop on NPA Calculations for Cooperative banks
DESCRIPTION:Duration:  1 Days \nCapacity: 25 \nSector: Cooperative credit & banking \nCourse  Coordinator: Shri. Vaibhav S. Bodke
URL:https://www.icmpune.org/annual-programme/workshop-on-npa-calculations-for-cooperative-banks/?lang=en
END:VEVENT
END:VCALENDAR