BEGIN:VCALENDAR
VERSION:2.0
PRODID:-//Co-operative Management Institute [ICM Pune] - ECPv6.1.3//NONSGML v1.0//EN
CALSCALE:GREGORIAN
METHOD:PUBLISH
X-ORIGINAL-URL:https://www.icmpune.org/?lang=en
X-WR-CALDESC:Events for Co-operative Management Institute [ICM Pune]
REFRESH-INTERVAL;VALUE=DURATION:PT1H
X-Robots-Tag:noindex
X-PUBLISHED-TTL:PT1H
BEGIN:VTIMEZONE
TZID:America/Indiana/Indianapolis
BEGIN:DAYLIGHT
TZOFFSETFROM:-0500
TZOFFSETTO:-0400
TZNAME:EDT
DTSTART:20240310T070000
END:DAYLIGHT
BEGIN:STANDARD
TZOFFSETFROM:-0400
TZOFFSETTO:-0500
TZNAME:EST
DTSTART:20241103T060000
END:STANDARD
END:VTIMEZONE
BEGIN:VEVENT
DTSTART;VALUE=DATE:20240108
DTEND;VALUE=DATE:20240209
DTSTAMP:20260422T165507
CREATED:20240704T071909Z
LAST-MODIFIED:20240704T071909Z
UID:7418-1704672000-1707436799@www.icmpune.org
SUMMARY:Programme on Self sustenance through improved Governance and Management of Resources  Sponsored by NABARD Under SOFTCOB Scheme
DESCRIPTION:Duration:  2 Days \nCapacity: 25 \nSector: Cooperative Credit & Banking\n \nCourse  Coordinator: Mr. J.E. Patki\n \nTarget Group: PACS BoDs \nIn Campus/Outstation: Outstation
URL:https://www.icmpune.org/annual-programme/programme-on-self-sustenance-through-improved-governance-and-management-of-resources-sponsored-by-nabard-under-softcob-scheme/?lang=en
END:VEVENT
BEGIN:VEVENT
DTSTART;VALUE=DATE:20240109
DTEND;VALUE=DATE:20240112
DTSTAMP:20260422T165507
CREATED:20230715T160520Z
LAST-MODIFIED:20230715T160520Z
UID:6488-1704758400-1705017599@www.icmpune.org
SUMMARY:Programme on Developing PACS into Multi Purpose Societies sponsored by NABARD Under SOFTCOB Scheme
DESCRIPTION:Duration:  3 Days \nCapacity: 25 \nSector: Cooperative credit & banking \nCourse  Coordinator: Shri. Jivraj E. Patki
URL:https://www.icmpune.org/annual-programme/programme-on-developing-pacs-into-multi-purpose-societies-sponsored-by-nabard-under-softcob-scheme-2/?lang=en
END:VEVENT
BEGIN:VEVENT
DTSTART;VALUE=DATE:20240110
DTEND;VALUE=DATE:20240113
DTSTAMP:20260422T165507
CREATED:20230715T160924Z
LAST-MODIFIED:20230715T162048Z
UID:6492-1704844800-1705103999@www.icmpune.org
SUMMARY:Programme for Certified Auditors of Cooperative of Maharshtra State (in colloboration with Maharashtra State Certified Auditor Association)
DESCRIPTION:Duration:  3 Days \nCapacity: 25 \nSector: Audit and Stasistics \nCourse  Coordinator: Shri. Omkar T. Kawade
URL:https://www.icmpune.org/annual-programme/programme-for-certified-auditors-of-cooperative-of-maharshtra-state-in-colloboration-with-maharashtra-state-certified-auditor-association/?lang=en
END:VEVENT
BEGIN:VEVENT
DTSTART;VALUE=DATE:20240110
DTEND;VALUE=DATE:20240113
DTSTAMP:20260422T165507
CREATED:20230717T123245Z
LAST-MODIFIED:20230718T114923Z
UID:6497-1704844800-1705103999@www.icmpune.org
SUMMARY:Programme on Effective use of MS-Excel by Auditors
DESCRIPTION:Duration:  3 Days \nCapacity: 25 \nSector: Information Technology \nCourse  Coordinator: Dr. Devdatta A. Divekar
URL:https://www.icmpune.org/annual-programme/programme-on-effective-use-of-ms-excel-by-auditors-2/?lang=en
END:VEVENT
END:VCALENDAR