BEGIN:VCALENDAR
VERSION:2.0
PRODID:-//Co-operative Management Institute [ICM Pune] - ECPv6.1.3//NONSGML v1.0//EN
CALSCALE:GREGORIAN
METHOD:PUBLISH
X-ORIGINAL-URL:https://www.icmpune.org/?lang=en
X-WR-CALDESC:Events for Co-operative Management Institute [ICM Pune]
REFRESH-INTERVAL;VALUE=DURATION:PT1H
X-Robots-Tag:noindex
X-PUBLISHED-TTL:PT1H
BEGIN:VTIMEZONE
TZID:America/Indiana/Indianapolis
BEGIN:DAYLIGHT
TZOFFSETFROM:-0500
TZOFFSETTO:-0400
TZNAME:EDT
DTSTART:20240310T070000
END:DAYLIGHT
BEGIN:STANDARD
TZOFFSETFROM:-0400
TZOFFSETTO:-0500
TZNAME:EST
DTSTART:20241103T060000
END:STANDARD
END:VTIMEZONE
BEGIN:VEVENT
DTSTART;VALUE=DATE:20240207
DTEND;VALUE=DATE:20240210
DTSTAMP:20260422T165517
CREATED:20230718T115739Z
LAST-MODIFIED:20230718T115739Z
UID:6510-1707264000-1707523199@www.icmpune.org
SUMMARY:Programme for Certified Auditors of Cooperatives of Maharashtra State (in Collaboration with Maharashtra State Certified Auditor Association)
DESCRIPTION:Duration:  3 Days \nCapacity: 25 \nSector: Audit and Stasistics \nCourse  Coordinator: Shri. Omkar T. Kawade
URL:https://www.icmpune.org/annual-programme/programme-for-certified-auditors-of-cooperatives-of-maharashtra-state-in-collaboration-with-maharashtra-state-certified-auditor-association-2/?lang=en
END:VEVENT
BEGIN:VEVENT
DTSTART;VALUE=DATE:20240207
DTEND;VALUE=DATE:20240210
DTSTAMP:20260422T165517
CREATED:20230718T115947Z
LAST-MODIFIED:20230718T115947Z
UID:6513-1707264000-1707523199@www.icmpune.org
SUMMARY:Programme on Know Your Customer Prevention of Money Laundering and Customer Protection-Br. Managers/Asstt. Managers/Officers of District Central Co-op. Banks Sponsored by NABARD Under SOFTCOB Scheme
DESCRIPTION:Duration:  3 Days \nCapacity: 25 \nSector: Cooperative Credit & Banking \nCourse  Coordinator: Dr. Devdatta A. Divekar
URL:https://www.icmpune.org/annual-programme/programme-on-know-your-customer-prevention-of-money-laundering-and-customer-protection-br-managers-asstt-managers-officers-of-district-central-co-op-banks-sponsored-by-nabard-under-softcob-scheme/?lang=en
END:VEVENT
BEGIN:VEVENT
DTSTART;VALUE=DATE:20240209
DTEND;VALUE=DATE:20240310
DTSTAMP:20260422T165517
CREATED:20240704T075811Z
LAST-MODIFIED:20240704T075811Z
UID:7434-1707436800-1710028799@www.icmpune.org
SUMMARY:Programme on Business Development Plan for Fisheries Cooperatives.
DESCRIPTION:Duration:  2 Days \nCapacity: 25 \nSector: Cooperative Credit & Banking\n \nCourse  Coordinator: Omkar T. Kawade\n \nTarget Group: Officers \nIn Campus/Outstation: In Campus / on location
URL:https://www.icmpune.org/annual-programme/programme-on-business-development-plan-for-fisheries-cooperatives/?lang=en
END:VEVENT
END:VCALENDAR