BEGIN:VCALENDAR
VERSION:2.0
PRODID:-//Co-operative Management Institute [ICM Pune] - ECPv6.1.3//NONSGML v1.0//EN
CALSCALE:GREGORIAN
METHOD:PUBLISH
X-ORIGINAL-URL:https://www.icmpune.org/?lang=en
X-WR-CALDESC:Events for Co-operative Management Institute [ICM Pune]
REFRESH-INTERVAL;VALUE=DURATION:PT1H
X-Robots-Tag:noindex
X-PUBLISHED-TTL:PT1H
BEGIN:VTIMEZONE
TZID:America/Indiana/Indianapolis
BEGIN:DAYLIGHT
TZOFFSETFROM:-0500
TZOFFSETTO:-0400
TZNAME:EDT
DTSTART:20250309T070000
END:DAYLIGHT
BEGIN:STANDARD
TZOFFSETFROM:-0400
TZOFFSETTO:-0500
TZNAME:EST
DTSTART:20251102T060000
END:STANDARD
END:VTIMEZONE
BEGIN:VEVENT
DTSTART;VALUE=DATE:20250101
DTEND;VALUE=DATE:20250104
DTSTAMP:20260421T211828
CREATED:20240712T082045Z
LAST-MODIFIED:20240712T082045Z
UID:7737-1735689600-1735948799@www.icmpune.org
SUMMARY:Programme on Know Your Customer Prevention of Money Laundering and Customer Protection-Br. Managers/Asstt. Managers/Officers of District Central Co-op. Banks Sponsored by NABARD Under SOFTCOB Scheme
DESCRIPTION:“Duration:  3 Days\nCapacity: 25 \nSector: Cooperative Credit & Banking \nCourse  Coordinator:Dr. Devdatta A. Divekar \nTarget Group: Br. Managers/Asst. Managers & Officers   \nIn Campus/Outstation: In  Campus  ”
URL:https://www.icmpune.org/annual-programme/programme-on-know-your-customer-prevention-of-money-laundering-and-customer-protection-br-managers-asstt-managers-officers-of-district-central-co-op-banks-sponsored-by-nabard-under-softcob-scheme-2/?lang=en
END:VEVENT
END:VCALENDAR