BEGIN:VCALENDAR
VERSION:2.0
PRODID:-//Co-operative Management Institute [ICM Pune] - ECPv6.1.3//NONSGML v1.0//EN
CALSCALE:GREGORIAN
METHOD:PUBLISH
X-WR-CALNAME:Co-operative Management Institute [ICM Pune]
X-ORIGINAL-URL:https://www.icmpune.org/?lang=en
X-WR-CALDESC:Events for Co-operative Management Institute [ICM Pune]
REFRESH-INTERVAL;VALUE=DURATION:PT1H
X-Robots-Tag:noindex
X-PUBLISHED-TTL:PT1H
BEGIN:VTIMEZONE
TZID:America/Indiana/Indianapolis
BEGIN:DAYLIGHT
TZOFFSETFROM:-0500
TZOFFSETTO:-0400
TZNAME:EDT
DTSTART:20250309T070000
END:DAYLIGHT
BEGIN:STANDARD
TZOFFSETFROM:-0400
TZOFFSETTO:-0500
TZNAME:EST
DTSTART:20251102T060000
END:STANDARD
END:VTIMEZONE
BEGIN:VEVENT
DTSTART;VALUE=DATE:20250106
DTEND;VALUE=DATE:20250109
DTSTAMP:20260421T211634
CREATED:20240712T082045Z
LAST-MODIFIED:20240712T082045Z
UID:7738-1736121600-1736380799@www.icmpune.org
SUMMARY:Programme for Certified Auditors of Cooperative of Maharshtra State (in colloboration with Maharashtra State Certified Auditor Association)
DESCRIPTION:“Duration:  3 Days\nCapacity: 25 \nSector:           Audit and Stasistics  \nCourse  Coordinator:Omkar T. Kawade  \nTarget Group: Certified Auditors   \nIn Campus/Outstation: In  Campus  ”
URL:https://www.icmpune.org/annual-programme/programme-for-certified-auditors-of-cooperative-of-maharshtra-state-in-colloboration-with-maharashtra-state-certified-auditor-association-3/?lang=en
END:VEVENT
END:VCALENDAR