BEGIN:VCALENDAR
VERSION:2.0
PRODID:-//Co-operative Management Institute [ICM Pune] - ECPv6.1.3//NONSGML v1.0//EN
CALSCALE:GREGORIAN
METHOD:PUBLISH
X-ORIGINAL-URL:https://www.icmpune.org/?lang=en
X-WR-CALDESC:Events for Co-operative Management Institute [ICM Pune]
REFRESH-INTERVAL;VALUE=DURATION:PT1H
X-Robots-Tag:noindex
X-PUBLISHED-TTL:PT1H
BEGIN:VTIMEZONE
TZID:America/Indiana/Indianapolis
BEGIN:DAYLIGHT
TZOFFSETFROM:-0500
TZOFFSETTO:-0400
TZNAME:EDT
DTSTART:20250309T070000
END:DAYLIGHT
BEGIN:STANDARD
TZOFFSETFROM:-0400
TZOFFSETTO:-0500
TZNAME:EST
DTSTART:20251102T060000
END:STANDARD
END:VTIMEZONE
BEGIN:VEVENT
DTSTART;VALUE=DATE:20250107
DTEND;VALUE=DATE:20250110
DTSTAMP:20260421T211923
CREATED:20240712T082045Z
LAST-MODIFIED:20240712T082045Z
UID:7739-1736208000-1736467199@www.icmpune.org
SUMMARY:Programme on Developing PACS into Multipurpose Societies Sponsored by NABARD Under SOFTCOB Scheme
DESCRIPTION:“Duration:  3 Days\nCapacity: 25 \nSector: Cooperative Credit & Banking \nCourse  Coordinator:Shri. Jivraj E. Patki \nTarget Group: Br. Managers/Asst. Managers & Officers  \nIn Campus/Outstation: In  Campus  ”
URL:https://www.icmpune.org/annual-programme/programme-on-developing-pacs-into-multipurpose-societies-sponsored-by-nabard-under-softcob-scheme-3/?lang=en
END:VEVENT
BEGIN:VEVENT
DTSTART;VALUE=DATE:20250108
DTEND;VALUE=DATE:20250111
DTSTAMP:20260421T211923
CREATED:20240712T082045Z
LAST-MODIFIED:20240712T082045Z
UID:7740-1736294400-1736553599@www.icmpune.org
SUMMARY:Management development programme on Time and Stress management for officers of Coop. Societies
DESCRIPTION:“Duration:  3 Days\nCapacity: 25 \nSector: Cooperative Credit & Banking  \nCourse  Coordinator:Omkar T. Kawade  \nTarget Group: Officers  \nIn Campus/Outstation: In  Campus  ”
URL:https://www.icmpune.org/annual-programme/management-development-programme-on-time-and-stress-management-for-officers-of-coop-societies/?lang=en
END:VEVENT
BEGIN:VEVENT
DTSTART;VALUE=DATE:20250108
DTEND;VALUE=DATE:20250111
DTSTAMP:20260421T211923
CREATED:20240712T082045Z
LAST-MODIFIED:20240712T082045Z
UID:7741-1736294400-1736553599@www.icmpune.org
SUMMARY:Programme on Loan Policy\, IRAC Norms and Legal aspects in Banking for Newly recruited/ Newly Promoted Branch Managers of Cooperative
DESCRIPTION:“Duration:  3 Days\nCapacity: 25 \nSector: Cooperative Credit & Banking \nCourse  Coordinator:Mr. Vaibhav S. Bodke \nTarget Group:  Br. Managers/Asst. Managers  \nIn Campus/Outstation: In  Campus  ”
URL:https://www.icmpune.org/annual-programme/programme-on-loan-policy-irac-norms-and-legal-aspects-in-banking-for-newly-recruited-newly-promoted-branch-managers-of-cooperative-2/?lang=en
END:VEVENT
END:VCALENDAR