BEGIN:VCALENDAR
VERSION:2.0
PRODID:-//Co-operative Management Institute [ICM Pune] - ECPv6.1.3//NONSGML v1.0//EN
CALSCALE:GREGORIAN
METHOD:PUBLISH
X-ORIGINAL-URL:https://www.icmpune.org/?lang=en
X-WR-CALDESC:Events for Co-operative Management Institute [ICM Pune]
REFRESH-INTERVAL;VALUE=DURATION:PT1H
X-Robots-Tag:noindex
X-PUBLISHED-TTL:PT1H
BEGIN:VTIMEZONE
TZID:America/Indiana/Indianapolis
BEGIN:DAYLIGHT
TZOFFSETFROM:-0500
TZOFFSETTO:-0400
TZNAME:EDT
DTSTART:20250309T070000
END:DAYLIGHT
BEGIN:STANDARD
TZOFFSETFROM:-0400
TZOFFSETTO:-0500
TZNAME:EST
DTSTART:20251102T060000
END:STANDARD
END:VTIMEZONE
BEGIN:VEVENT
DTSTART;VALUE=DATE:20250123
DTEND;VALUE=DATE:20250125
DTSTAMP:20260421T212708
CREATED:20240712T082336Z
LAST-MODIFIED:20240712T082336Z
UID:7765-1737590400-1737763199@www.icmpune.org
SUMMARY:Training Programme for Peons/MTS of Cooperative Institution Transform them into Responsible Employees
DESCRIPTION:“Duration:  2 Days\nCapacity: 25 \nSector: Professionalization of cooperatives \nCourse  Coordinator:Mr. Vaibhav S. Bodke \nTarget Group:  Peons/MTS \nIn Campus/Outstation: In  Campus  ”
URL:https://www.icmpune.org/annual-programme/training-programme-for-peons-mts-of-cooperative-institution-transform-them-into-responsible-employees-4/?lang=en
END:VEVENT
END:VCALENDAR