BEGIN:VCALENDAR
VERSION:2.0
PRODID:-//Co-operative Management Institute [ICM Pune] - ECPv6.1.3//NONSGML v1.0//EN
CALSCALE:GREGORIAN
METHOD:PUBLISH
X-WR-CALNAME:Co-operative Management Institute [ICM Pune]
X-ORIGINAL-URL:https://www.icmpune.org/?lang=en
X-WR-CALDESC:Events for Co-operative Management Institute [ICM Pune]
REFRESH-INTERVAL;VALUE=DURATION:PT1H
X-Robots-Tag:noindex
X-PUBLISHED-TTL:PT1H
BEGIN:VTIMEZONE
TZID:America/Indiana/Indianapolis
BEGIN:DAYLIGHT
TZOFFSETFROM:-0500
TZOFFSETTO:-0400
TZNAME:EDT
DTSTART:20220313T070000
END:DAYLIGHT
BEGIN:STANDARD
TZOFFSETFROM:-0400
TZOFFSETTO:-0500
TZNAME:EST
DTSTART:20221106T060000
END:STANDARD
BEGIN:DAYLIGHT
TZOFFSETFROM:-0500
TZOFFSETTO:-0400
TZNAME:EDT
DTSTART:20230312T070000
END:DAYLIGHT
BEGIN:STANDARD
TZOFFSETFROM:-0400
TZOFFSETTO:-0500
TZNAME:EST
DTSTART:20231105T060000
END:STANDARD
END:VTIMEZONE
BEGIN:VEVENT
DTSTART;VALUE=DATE:20221102
DTEND;VALUE=DATE:20221105
DTSTAMP:20260425T182240
CREATED:20220420T103023Z
LAST-MODIFIED:20220420T103023Z
UID:5808-1667347200-1667606399@www.icmpune.org
SUMMARY:Cash Management and Fake Note
DESCRIPTION:Programme on Cash Management and Fake Note Detection for Cooperative Banks
URL:https://www.icmpune.org/annual-programme/cash-management-and-fake-note/?lang=en
CATEGORIES:Cooperative Credit & Banking
END:VEVENT
BEGIN:VEVENT
DTSTART;VALUE=DATE:20221109
DTEND;VALUE=DATE:20221112
DTSTAMP:20260425T182240
CREATED:20220420T103656Z
LAST-MODIFIED:20220420T103656Z
UID:5810-1667952000-1668211199@www.icmpune.org
SUMMARY:BOD's of PACS on Self Sustenance
DESCRIPTION:Programme for BoD of PACS on Self Sustenance through Improved Governance and Management of Resources for BOD of PACS sponsored By NABARD under
URL:https://www.icmpune.org/annual-programme/bods-of-pacs-on-self-sustenance/?lang=en
CATEGORIES:Cooperative Credit & Banking
END:VEVENT
BEGIN:VEVENT
DTSTART;VALUE=DATE:20221110
DTEND;VALUE=DATE:20221112
DTSTAMP:20260425T182240
CREATED:20220420T103951Z
LAST-MODIFIED:20220420T103951Z
UID:5812-1668038400-1668211199@www.icmpune.org
SUMMARY:Risk Based Internal Audit for Cooperative Banks
DESCRIPTION:
URL:https://www.icmpune.org/annual-programme/risk-based-internal-audit/?lang=en
CATEGORIES:Cooperative Credit & Banking
END:VEVENT
BEGIN:VEVENT
DTSTART;VALUE=DATE:20221115
DTEND;VALUE=DATE:20221118
DTSTAMP:20260425T182240
CREATED:20220420T104638Z
LAST-MODIFIED:20220420T104638Z
UID:5814-1668470400-1668729599@www.icmpune.org
SUMMARY:Programme on Domestic Enquiry for Cooperative Banks
DESCRIPTION:
URL:https://www.icmpune.org/annual-programme/domestic-enquiry/?lang=en
CATEGORIES:Cooperative Credit & Banking
END:VEVENT
BEGIN:VEVENT
DTSTART;VALUE=DATE:20221116
DTEND;VALUE=DATE:20221119
DTSTAMP:20260425T182240
CREATED:20220420T104824Z
LAST-MODIFIED:20220420T104824Z
UID:5816-1668556800-1668815999@www.icmpune.org
SUMMARY:MDP for Consumer /Marketing
DESCRIPTION:Management Development Programme for Consumer / Marketing Cooperative Societies
URL:https://www.icmpune.org/annual-programme/mdp-for-consumer-marketing/?lang=en
CATEGORIES:Consumer Cooperatives
END:VEVENT
BEGIN:VEVENT
DTSTART;VALUE=DATE:20221123
DTEND;VALUE=DATE:20221126
DTSTAMP:20260425T182240
CREATED:20220420T105019Z
LAST-MODIFIED:20220420T105019Z
UID:5818-1669161600-1669420799@www.icmpune.org
SUMMARY:MDP for Sr. Officers/Managers
DESCRIPTION:Management Development Programme for Sr. Officers/ Managers of District Central Cooperative Banks Sponsored by NABARD Under SOFTCOB Scheme
URL:https://www.icmpune.org/annual-programme/mdp-for-sr-officers-managers/?lang=en
CATEGORIES:Cooperative Credit & Banking
END:VEVENT
BEGIN:VEVENT
DTSTART;VALUE=DATE:20221125
DTEND;VALUE=DATE:20221126
DTSTAMP:20260425T182240
CREATED:20220420T110948Z
LAST-MODIFIED:20220420T110948Z
UID:5821-1669334400-1669420799@www.icmpune.org
SUMMARY:Workshop on NPA Calculations for Cooperative Banks
DESCRIPTION:
URL:https://www.icmpune.org/annual-programme/npa-calculations-for-cooperative-banks/?lang=en
CATEGORIES:Cooperative Credit & Banking
END:VEVENT
BEGIN:VEVENT
DTSTART;VALUE=DATE:20221128
DTEND;VALUE=DATE:20221201
DTSTAMP:20260425T182240
CREATED:20220421T043428Z
LAST-MODIFIED:20220421T043428Z
UID:5823-1669593600-1669852799@www.icmpune.org
SUMMARY:Cash Management and fake note
DESCRIPTION:Programme on Cash Management and fake note/spurious gold detection for cashiers/staff assistance of Cooperative Banks
URL:https://www.icmpune.org/annual-programme/cash-management-and-fake-note-2/?lang=en
CATEGORIES:Cooperative Credit & Banking
END:VEVENT
BEGIN:VEVENT
DTSTART;VALUE=DATE:20221207
DTEND;VALUE=DATE:20221210
DTSTAMP:20260425T182240
CREATED:20220421T043635Z
LAST-MODIFIED:20220421T043635Z
UID:5825-1670371200-1670630399@www.icmpune.org
SUMMARY:Accounting Standards &Auditing Standards
DESCRIPTION:Programme on Accounting Standards &Auditing Standards applicable to Cooperative Banks
URL:https://www.icmpune.org/annual-programme/accounting-standards-auditing-standards/?lang=en
CATEGORIES:Cooperative Credit & Banking
END:VEVENT
BEGIN:VEVENT
DTSTART;VALUE=DATE:20221214
DTEND;VALUE=DATE:20221217
DTSTAMP:20260425T182240
CREATED:20220421T043929Z
LAST-MODIFIED:20220421T043929Z
UID:5827-1670976000-1671235199@www.icmpune.org
SUMMARY:LDP for Women Directors
DESCRIPTION:Leadership Development programme for Women Directors of Cooperative Banks
URL:https://www.icmpune.org/annual-programme/ldp-for-women-directors/?lang=en
CATEGORIES:Cooperative Credit & Banking
END:VEVENT
BEGIN:VEVENT
DTSTART;VALUE=DATE:20221219
DTEND;VALUE=DATE:20221224
DTSTAMP:20260425T182240
CREATED:20220421T044211Z
LAST-MODIFIED:20220421T044211Z
UID:5829-1671408000-1671839999@www.icmpune.org
SUMMARY:Accounts with Spl. ref.
DESCRIPTION:Workshop on Accounts with Special reference to Common Accounting System with Tally-focus on :GST Accounting for Accountant\, Computer Operators\, Clerks of Sugar Factories and Dairies
URL:https://www.icmpune.org/annual-programme/accounts-with-spl-ref/?lang=en
CATEGORIES:Sugar Cooperatives
END:VEVENT
BEGIN:VEVENT
DTSTART;VALUE=DATE:20221221
DTEND;VALUE=DATE:20221224
DTSTAMP:20260425T182240
CREATED:20220421T044411Z
LAST-MODIFIED:20220421T044411Z
UID:5831-1671580800-1671839999@www.icmpune.org
SUMMARY:Fraud & Embezzlement
DESCRIPTION:Programme on Fraud and Embezzlement for Sr. Managers/Managers /Asstt. Managers of DCC Banks Sponsored by NABARD Under SOFTCOB Scheme
URL:https://www.icmpune.org/annual-programme/fraud-embezzlement/?lang=en
CATEGORIES:Cooperative Credit & Banking
END:VEVENT
BEGIN:VEVENT
DTSTART;VALUE=DATE:20221228
DTEND;VALUE=DATE:20221231
DTSTAMP:20260425T182240
CREATED:20220421T045607Z
LAST-MODIFIED:20220421T045607Z
UID:5833-1672185600-1672444799@www.icmpune.org
SUMMARY:Programme on Arbitration Act for Multi State Cooperative Societies
DESCRIPTION:
URL:https://www.icmpune.org/annual-programme/arbitration-act/?lang=en
CATEGORIES:Cooperative Credit & Banking
END:VEVENT
BEGIN:VEVENT
DTSTART;VALUE=DATE:20221228
DTEND;VALUE=DATE:20221231
DTSTAMP:20260425T182240
CREATED:20220421T050934Z
LAST-MODIFIED:20220421T050934Z
UID:5836-1672185600-1672444799@www.icmpune.org
SUMMARY:KYC Prevention of Money Laundering
DESCRIPTION:Programme on Know Your Customer Prevention of Money Laundering and Customer Protection for Clerks of DCC Banks sponsored by NABARD under SOFTCOB Scheme
URL:https://www.icmpune.org/annual-programme/kyc-prevention-of-money-laundering/?lang=en
CATEGORIES:Cooperative Credit & Banking
END:VEVENT
BEGIN:VEVENT
DTSTART;VALUE=DATE:20230104
DTEND;VALUE=DATE:20230107
DTSTAMP:20260425T182240
CREATED:20220421T051410Z
LAST-MODIFIED:20220421T051410Z
UID:5838-1672790400-1673049599@www.icmpune.org
SUMMARY:Certified Auditors of Cooperatives of Maharashtra State
DESCRIPTION:Programme for Certified Auditors of Cooperatives of Maharashtra State (in Collaboration with Maharashtra State Certified Auditor Association)
URL:https://www.icmpune.org/annual-programme/certified-auditors-of-cooperatives-of-maharashtra-state/?lang=en
CATEGORIES:Audit & Statistics
END:VEVENT
BEGIN:VEVENT
DTSTART;VALUE=DATE:20230106
DTEND;VALUE=DATE:20230108
DTSTAMP:20260425T182240
CREATED:20220421T055421Z
LAST-MODIFIED:20220421T055421Z
UID:5840-1672963200-1673135999@www.icmpune.org
SUMMARY:Digital Banking for Branch Managers of Cooperative Banks
DESCRIPTION:
URL:https://www.icmpune.org/annual-programme/digital-banking/?lang=en
CATEGORIES:Cooperative Credit & Banking
END:VEVENT
BEGIN:VEVENT
DTSTART;VALUE=DATE:20230109
DTEND;VALUE=DATE:20230114
DTSTAMP:20260425T182240
CREATED:20220421T055821Z
LAST-MODIFIED:20220421T055821Z
UID:5842-1673222400-1673654399@www.icmpune.org
SUMMARY:W'shop on Accounts with Special reference to Common Accounting System
DESCRIPTION:Workshop on Accounts with Special reference to Common Accounting System with Tally-focus on :GST Accounting for Accountant\, Computer Operators\, Clerks of APMCs
URL:https://www.icmpune.org/annual-programme/wshop-on-accounts-with-special-reference-to-common-accounting-system/?lang=en
CATEGORIES:Other
END:VEVENT
BEGIN:VEVENT
DTSTART;VALUE=DATE:20230111
DTEND;VALUE=DATE:20230114
DTSTAMP:20260425T182240
CREATED:20220421T060148Z
LAST-MODIFIED:20220421T060148Z
UID:5844-1673395200-1673654399@www.icmpune.org
SUMMARY:BDP for PACS
DESCRIPTION:Business Development Plan for PACS Functionaries sponsored by NABARD under SOFTCOB Scheme
URL:https://www.icmpune.org/annual-programme/bdp-for-pacs-2/?lang=en
CATEGORIES:Cooperative Credit & Banking
END:VEVENT
BEGIN:VEVENT
DTSTART;VALUE=DATE:20230117
DTEND;VALUE=DATE:20230120
DTSTAMP:20260425T182240
CREATED:20220421T061206Z
LAST-MODIFIED:20220421T061206Z
UID:5846-1673913600-1674172799@www.icmpune.org
SUMMARY:Project Appraisal and Loan Documentation
DESCRIPTION:Programme on Project Appraisal and Loan Documentation -Farm Sector Sponsored by NABARD Under SOFTCOB Scheme
URL:https://www.icmpune.org/annual-programme/project-appraisal-and-loan-documentation-2/?lang=en
CATEGORIES:Cooperative Credit & Banking
END:VEVENT
BEGIN:VEVENT
DTSTART;VALUE=DATE:20230118
DTEND;VALUE=DATE:20230121
DTSTAMP:20260425T182240
CREATED:20220421T061644Z
LAST-MODIFIED:20220421T061644Z
UID:5848-1674000000-1674259199@www.icmpune.org
SUMMARY:Developing PACS into Multipurpose Societies
DESCRIPTION:Programme on Developing PACS into Multipurpose Societies for PACS Functionaries Sponsored by NABARD Under SOFTCOB Scheme
URL:https://www.icmpune.org/annual-programme/developing-pacs-into-multipurpose-societies-2/?lang=en
CATEGORIES:Cooperative Credit & Banking
END:VEVENT
BEGIN:VEVENT
DTSTART;VALUE=DATE:20230207
DTEND;VALUE=DATE:20230210
DTSTAMP:20260425T182240
CREATED:20220421T061906Z
LAST-MODIFIED:20220421T061906Z
UID:5850-1675728000-1675987199@www.icmpune.org
SUMMARY:Programme on Risk Based Audit for Cooperative Banks
DESCRIPTION:
URL:https://www.icmpune.org/annual-programme/risk-based-audit-for-cooperative-banks/?lang=en
CATEGORIES:Cooperative Credit & Banking
END:VEVENT
BEGIN:VEVENT
DTSTART;VALUE=DATE:20230208
DTEND;VALUE=DATE:20230211
DTSTAMP:20260425T182240
CREATED:20220421T062126Z
LAST-MODIFIED:20220421T062126Z
UID:5852-1675814400-1676073599@www.icmpune.org
SUMMARY:Certified Auditors of Cooperatives
DESCRIPTION:Programme for Certified Auditors of Cooperatives of Maharashtra State (in Collaboration with Maharashtra State Certified Auditor Association)
URL:https://www.icmpune.org/annual-programme/certified-auditors-of-cooperatives/?lang=en
CATEGORIES:Audit & Statistics
END:VEVENT
BEGIN:VEVENT
DTSTART;VALUE=DATE:20230209
DTEND;VALUE=DATE:20230211
DTSTAMP:20260425T182240
CREATED:20220421T064300Z
LAST-MODIFIED:20220421T064300Z
UID:5864-1675900800-1676073599@www.icmpune.org
SUMMARY:MDP for Officers of Sugar Factories
DESCRIPTION:Management Development Programme for Officers of Sugar Factories
URL:https://www.icmpune.org/annual-programme/mdp-for-officers-of-sugar-factories/?lang=en
CATEGORIES:Sugar Cooperatives
END:VEVENT
BEGIN:VEVENT
DTSTART;VALUE=DATE:20230215
DTEND;VALUE=DATE:20230218
DTSTAMP:20260425T182240
CREATED:20220421T062323Z
LAST-MODIFIED:20220421T062323Z
UID:5854-1676419200-1676678399@www.icmpune.org
SUMMARY:Banking Law and Practice and legal Aspects in Loan Proposals
DESCRIPTION:Programme on Banking Law and Practice and legal Aspects in Loan Proposals for Officers of DCC Banks spnosred by NABARD under SOFTCOB Scheme
URL:https://www.icmpune.org/annual-programme/banking-law-and-practice-and-legal-aspects-in-loan-proposals/?lang=en
CATEGORIES:Cooperative Credit & Banking
END:VEVENT
BEGIN:VEVENT
DTSTART;VALUE=DATE:20230215
DTEND;VALUE=DATE:20230218
DTSTAMP:20260425T182240
CREATED:20220421T062526Z
LAST-MODIFIED:20220421T062526Z
UID:5856-1676419200-1676678399@www.icmpune.org
SUMMARY:Developing PACS into Multi-Purpose Societies
DESCRIPTION:Programme on “Developing PACS into Multi-Purpose Societies” Sponsored by NABARD Under SOFTCOB Scheme
URL:https://www.icmpune.org/annual-programme/developing-pacs-into-multi-purpose-societies-2/?lang=en
CATEGORIES:Cooperative Credit & Banking
END:VEVENT
BEGIN:VEVENT
DTSTART;VALUE=DATE:20230222
DTEND;VALUE=DATE:20230225
DTSTAMP:20260425T182240
CREATED:20220421T063245Z
LAST-MODIFIED:20220421T063245Z
UID:5858-1677024000-1677283199@www.icmpune.org
SUMMARY:KYC\, PML & Customer Protection
DESCRIPTION:Know your Customer\, Prevention of Money Laundering and Customer Protection – Br. Managers / Asstt. Managers/ Officers of DCC Banks Sponsored by NABARD Under SOFTCOB Scheme
URL:https://www.icmpune.org/annual-programme/kyc-pml-customer-protection/?lang=en
CATEGORIES:Cooperative Credit & Banking
END:VEVENT
BEGIN:VEVENT
DTSTART;VALUE=DATE:20230222
DTEND;VALUE=DATE:20230225
DTSTAMP:20260425T182240
CREATED:20220421T063703Z
LAST-MODIFIED:20220421T063703Z
UID:5860-1677024000-1677283199@www.icmpune.org
SUMMARY:Prog.for Housing Cooperatives in Association with Housing Federation
DESCRIPTION:
URL:https://www.icmpune.org/annual-programme/for-housing-cooperatives-in-association-with-housing-federation/?lang=en
CATEGORIES:Housing Cooperatives
END:VEVENT
BEGIN:VEVENT
DTSTART;VALUE=DATE:20230302
DTEND;VALUE=DATE:20230304
DTSTAMP:20260425T182240
CREATED:20220421T064031Z
LAST-MODIFIED:20220421T064031Z
UID:5862-1677715200-1677887999@www.icmpune.org
SUMMARY:MDP for Officers of Consumer Cooperatives
DESCRIPTION:
URL:https://www.icmpune.org/annual-programme/mdp-for-officers-of-consumer-cooperatives/?lang=en
CATEGORIES:Consumer Cooperatives
END:VEVENT
BEGIN:VEVENT
DTSTART;VALUE=DATE:20230310
DTEND;VALUE=DATE:20230311
DTSTAMP:20260425T182240
CREATED:20220421T065246Z
LAST-MODIFIED:20220421T065246Z
UID:5866-1678406400-1678492799@www.icmpune.org
SUMMARY:UPI Technology and Security for Cooperative Banks
DESCRIPTION:
URL:https://www.icmpune.org/annual-programme/upi-technology-and-security/?lang=en
CATEGORIES:Information Technology
END:VEVENT
BEGIN:VEVENT
DTSTART;VALUE=DATE:20230317
DTEND;VALUE=DATE:20230318
DTSTAMP:20260425T182240
CREATED:20220421T065400Z
LAST-MODIFIED:20220421T065400Z
UID:5868-1679011200-1679097599@www.icmpune.org
SUMMARY:Outsourcing of Financial Services for Cooperative Banks
DESCRIPTION:
URL:https://www.icmpune.org/annual-programme/outsourcing-of-financial-services/?lang=en
CATEGORIES:Cooperative Credit & Banking
END:VEVENT
END:VCALENDAR