BEGIN:VCALENDAR
VERSION:2.0
PRODID:-//Co-operative Management Institute [ICM Pune] - ECPv6.1.3//NONSGML v1.0//EN
CALSCALE:GREGORIAN
METHOD:PUBLISH
X-WR-CALNAME:Co-operative Management Institute [ICM Pune]
X-ORIGINAL-URL:https://www.icmpune.org/?lang=en
X-WR-CALDESC:Events for Co-operative Management Institute [ICM Pune]
REFRESH-INTERVAL;VALUE=DURATION:PT1H
X-Robots-Tag:noindex
X-PUBLISHED-TTL:PT1H
BEGIN:VTIMEZONE
TZID:America/Indiana/Indianapolis
BEGIN:DAYLIGHT
TZOFFSETFROM:-0500
TZOFFSETTO:-0400
TZNAME:EDT
DTSTART:20230312T070000
END:DAYLIGHT
BEGIN:STANDARD
TZOFFSETFROM:-0400
TZOFFSETTO:-0500
TZNAME:EST
DTSTART:20231105T060000
END:STANDARD
END:VTIMEZONE
BEGIN:VEVENT
DTSTART;VALUE=DATE:20230207
DTEND;VALUE=DATE:20230210
DTSTAMP:20260425T122303
CREATED:20220421T061906Z
LAST-MODIFIED:20220421T061906Z
UID:5850-1675728000-1675987199@www.icmpune.org
SUMMARY:Programme on Risk Based Audit for Cooperative Banks
DESCRIPTION:
URL:https://www.icmpune.org/annual-programme/risk-based-audit-for-cooperative-banks/?lang=en
CATEGORIES:Cooperative Credit & Banking
END:VEVENT
BEGIN:VEVENT
DTSTART;VALUE=DATE:20230208
DTEND;VALUE=DATE:20230211
DTSTAMP:20260425T122303
CREATED:20220421T062126Z
LAST-MODIFIED:20220421T062126Z
UID:5852-1675814400-1676073599@www.icmpune.org
SUMMARY:Certified Auditors of Cooperatives
DESCRIPTION:Programme for Certified Auditors of Cooperatives of Maharashtra State (in Collaboration with Maharashtra State Certified Auditor Association)
URL:https://www.icmpune.org/annual-programme/certified-auditors-of-cooperatives/?lang=en
CATEGORIES:Audit & Statistics
END:VEVENT
BEGIN:VEVENT
DTSTART;VALUE=DATE:20230209
DTEND;VALUE=DATE:20230211
DTSTAMP:20260425T122303
CREATED:20220421T064300Z
LAST-MODIFIED:20220421T064300Z
UID:5864-1675900800-1676073599@www.icmpune.org
SUMMARY:MDP for Officers of Sugar Factories
DESCRIPTION:Management Development Programme for Officers of Sugar Factories
URL:https://www.icmpune.org/annual-programme/mdp-for-officers-of-sugar-factories/?lang=en
CATEGORIES:Sugar Cooperatives
END:VEVENT
BEGIN:VEVENT
DTSTART;VALUE=DATE:20230215
DTEND;VALUE=DATE:20230218
DTSTAMP:20260425T122303
CREATED:20220421T062323Z
LAST-MODIFIED:20220421T062323Z
UID:5854-1676419200-1676678399@www.icmpune.org
SUMMARY:Banking Law and Practice and legal Aspects in Loan Proposals
DESCRIPTION:Programme on Banking Law and Practice and legal Aspects in Loan Proposals for Officers of DCC Banks spnosred by NABARD under SOFTCOB Scheme
URL:https://www.icmpune.org/annual-programme/banking-law-and-practice-and-legal-aspects-in-loan-proposals/?lang=en
CATEGORIES:Cooperative Credit & Banking
END:VEVENT
BEGIN:VEVENT
DTSTART;VALUE=DATE:20230215
DTEND;VALUE=DATE:20230218
DTSTAMP:20260425T122303
CREATED:20220421T062526Z
LAST-MODIFIED:20220421T062526Z
UID:5856-1676419200-1676678399@www.icmpune.org
SUMMARY:Developing PACS into Multi-Purpose Societies
DESCRIPTION:Programme on “Developing PACS into Multi-Purpose Societies” Sponsored by NABARD Under SOFTCOB Scheme
URL:https://www.icmpune.org/annual-programme/developing-pacs-into-multi-purpose-societies-2/?lang=en
CATEGORIES:Cooperative Credit & Banking
END:VEVENT
BEGIN:VEVENT
DTSTART;VALUE=DATE:20230222
DTEND;VALUE=DATE:20230225
DTSTAMP:20260425T122303
CREATED:20220421T063245Z
LAST-MODIFIED:20220421T063245Z
UID:5858-1677024000-1677283199@www.icmpune.org
SUMMARY:KYC\, PML & Customer Protection
DESCRIPTION:Know your Customer\, Prevention of Money Laundering and Customer Protection – Br. Managers / Asstt. Managers/ Officers of DCC Banks Sponsored by NABARD Under SOFTCOB Scheme
URL:https://www.icmpune.org/annual-programme/kyc-pml-customer-protection/?lang=en
CATEGORIES:Cooperative Credit & Banking
END:VEVENT
BEGIN:VEVENT
DTSTART;VALUE=DATE:20230222
DTEND;VALUE=DATE:20230225
DTSTAMP:20260425T122303
CREATED:20220421T063703Z
LAST-MODIFIED:20220421T063703Z
UID:5860-1677024000-1677283199@www.icmpune.org
SUMMARY:Prog.for Housing Cooperatives in Association with Housing Federation
DESCRIPTION:
URL:https://www.icmpune.org/annual-programme/for-housing-cooperatives-in-association-with-housing-federation/?lang=en
CATEGORIES:Housing Cooperatives
END:VEVENT
BEGIN:VEVENT
DTSTART;VALUE=DATE:20230302
DTEND;VALUE=DATE:20230304
DTSTAMP:20260425T122303
CREATED:20220421T064031Z
LAST-MODIFIED:20220421T064031Z
UID:5862-1677715200-1677887999@www.icmpune.org
SUMMARY:MDP for Officers of Consumer Cooperatives
DESCRIPTION:
URL:https://www.icmpune.org/annual-programme/mdp-for-officers-of-consumer-cooperatives/?lang=en
CATEGORIES:Consumer Cooperatives
END:VEVENT
BEGIN:VEVENT
DTSTART;VALUE=DATE:20230310
DTEND;VALUE=DATE:20230311
DTSTAMP:20260425T122303
CREATED:20220421T065246Z
LAST-MODIFIED:20220421T065246Z
UID:5866-1678406400-1678492799@www.icmpune.org
SUMMARY:UPI Technology and Security for Cooperative Banks
DESCRIPTION:
URL:https://www.icmpune.org/annual-programme/upi-technology-and-security/?lang=en
CATEGORIES:Information Technology
END:VEVENT
BEGIN:VEVENT
DTSTART;VALUE=DATE:20230317
DTEND;VALUE=DATE:20230318
DTSTAMP:20260425T122303
CREATED:20220421T065400Z
LAST-MODIFIED:20220421T065400Z
UID:5868-1679011200-1679097599@www.icmpune.org
SUMMARY:Outsourcing of Financial Services for Cooperative Banks
DESCRIPTION:
URL:https://www.icmpune.org/annual-programme/outsourcing-of-financial-services/?lang=en
CATEGORIES:Cooperative Credit & Banking
END:VEVENT
BEGIN:VEVENT
DTSTART;VALUE=DATE:20230417
DTEND;VALUE=DATE:20230420
DTSTAMP:20260425T122303
CREATED:20230714T124123Z
LAST-MODIFIED:20230714T124241Z
UID:6353-1681689600-1681948799@www.icmpune.org
SUMMARY:Programme on Important acts & provisions applicable to cooperative Societies for the Certified Auditors
DESCRIPTION:Duration: 3 Days \nCapacity: 25 \nSector: Audit and Statistics \nCourse  Coordinator: Shri. Omkar T. Kawade \n  \n  \n 
URL:https://www.icmpune.org/annual-programme/programme-on-important-acts-provisions-applicable-to-cooperative-societies-for-the-certified-auditors/?lang=en
ORGANIZER;CN="ICM":MAILTO:info@icmpune.org
END:VEVENT
BEGIN:VEVENT
DTSTART;VALUE=DATE:20230417
DTEND;VALUE=DATE:20230420
DTSTAMP:20260425T122303
CREATED:20230715T082952Z
LAST-MODIFIED:20230715T082952Z
UID:6368-1681689600-1681948799@www.icmpune.org
SUMMARY:Programme on Effective Use of MS-Excel by Auditors
DESCRIPTION:Duration: 3 Days \nCapacity: 25 \nSector: Information Technology \nCourse  Coordinator: Dr. Devdatta A. Divekar \n  \n  \n 
URL:https://www.icmpune.org/annual-programme/programme-on-effective-use-of-ms-excel-by-auditors/?lang=en
ORGANIZER;CN="ICM":MAILTO:info@icmpune.org
END:VEVENT
BEGIN:VEVENT
DTSTART;VALUE=DATE:20230425
DTEND;VALUE=DATE:20230428
DTSTAMP:20260425T122303
CREATED:20230715T085438Z
LAST-MODIFIED:20230715T085438Z
UID:6370-1682380800-1682639999@www.icmpune.org
SUMMARY:Programme on Credit Appraisal & Documentation for Cooperative Banks
DESCRIPTION:Duration: 3 Days \nCapacity: 25 \nSector: Cooperative Credit & Banking \nCourse  Coordinator: Mr. Narayandas B. Prasad \n  \n  \n 
URL:https://www.icmpune.org/annual-programme/programme-on-credit-appraisal-documentation-for-cooperative-banks/?lang=en
ORGANIZER;CN="ICM":MAILTO:info@icmpune.org
END:VEVENT
BEGIN:VEVENT
DTSTART;VALUE=DATE:20230427
DTEND;VALUE=DATE:20230429
DTSTAMP:20260425T122303
CREATED:20230715T085647Z
LAST-MODIFIED:20230715T092521Z
UID:6372-1682553600-1682726399@www.icmpune.org
SUMMARY:Programme on Treasury and Investment Management for Cooperative Banks
DESCRIPTION:Duration: 2 Days \nCapacity: 25 \nSector: Cooperative Credit & Banking \nCourse  Coordinator: Dr. Devdatta A. Divekar \n  \n  \n 
URL:https://www.icmpune.org/annual-programme/programme-on-treasury-and-investment-management-for-cooperative-banks/?lang=en
ORGANIZER;CN="ICM":MAILTO:info@icmpune.org
END:VEVENT
BEGIN:VEVENT
DTSTART;VALUE=DATE:20230510
DTEND;VALUE=DATE:20230513
DTSTAMP:20260425T122303
CREATED:20230715T093030Z
LAST-MODIFIED:20230715T093041Z
UID:6374-1683676800-1683935999@www.icmpune.org
SUMMARY:Programme on Attachment and Execution of Property as per Securitization Act and MCS Act 1960/61 Under Section 49\,100\,91\,101\,155\,156 and Rule 107 for SRO’s of DCCBs & UCBs
DESCRIPTION:Duration: 3 Days \nCapacity: 25 \nSector: Cooperative Credit & Banking \nCourse  Coordinator: Mr. Narayandas B. Prasad \n  \n  \n 
URL:https://www.icmpune.org/annual-programme/programme-on-attachment-and-execution-of-property-as-per-securitization-act-and-mcs-act-1960-61-under-section-4910091101155156-and-rule-107-for-sros-of-dccbs-ucbs/?lang=en
ORGANIZER;CN="ICM":MAILTO:info@icmpune.org
END:VEVENT
BEGIN:VEVENT
DTSTART;VALUE=DATE:20230510
DTEND;VALUE=DATE:20230513
DTSTAMP:20260425T122303
CREATED:20230715T093255Z
LAST-MODIFIED:20230715T093352Z
UID:6376-1683676800-1683935999@www.icmpune.org
SUMMARY:Programme on Banking Laws and Practice and Legal Aspects in Loan Proposal for Officers of DCC Banks sponsored by NABARD under SOFTCOB Scheme
DESCRIPTION:Duration: 3 Days \nCapacity: 25 \nSector: Cooperative Credit & Banking \nCourse  Coordinator: Mrs. Vijayshri M. Bhagawati \n  \n  \n 
URL:https://www.icmpune.org/annual-programme/programme-on-banking-laws-and-practice-and-legal-aspects-in-loan-proposal-for-officers-of-dcc-banks-sponsored-by-nabard-under-softcob-scheme/?lang=en
ORGANIZER;CN="ICM":MAILTO:info@icmpune.org
END:VEVENT
BEGIN:VEVENT
DTSTART;VALUE=DATE:20230511
DTEND;VALUE=DATE:20230513
DTSTAMP:20260425T122303
CREATED:20230715T093556Z
LAST-MODIFIED:20230715T093556Z
UID:6378-1683763200-1683935999@www.icmpune.org
SUMMARY:Programme on Cyber Security Framework
DESCRIPTION:Duration: 2 Days \nCapacity: 25 \nSector: Information Technology \nCourse  Coordinator: Dr. Devdatta A. Divekar \n  \n  \n 
URL:https://www.icmpune.org/annual-programme/programme-on-cyber-security-framework/?lang=en
ORGANIZER;CN="ICM":MAILTO:info@icmpune.org
END:VEVENT
BEGIN:VEVENT
DTSTART;VALUE=DATE:20230517
DTEND;VALUE=DATE:20230520
DTSTAMP:20260425T122303
CREATED:20230715T093832Z
LAST-MODIFIED:20230715T093844Z
UID:6380-1684281600-1684540799@www.icmpune.org
SUMMARY:Online-Programme on Know Your Customer\, Prevention of Money Laundering and Customer Protection - Br. Managers / Asstt. Managers / Officers of banks Sponsored by NABARD Under SOFTCOB Scheme
DESCRIPTION:Duration: 3 Days \nCapacity: 25 \nSector: Cooperative Credit & Banking \nCourse  Coordinator: Mrs. Vijayshri M. Bhagawati \n  \n  \n 
URL:https://www.icmpune.org/annual-programme/online-programme-on-know-your-customer-prevention-of-money-laundering-and-customer-protection-br-managers-asstt-managers-officers-of-banks-sponsored-by-nabard-under-softcob-scheme/?lang=en
ORGANIZER;CN="ICM":MAILTO:info@icmpune.org
END:VEVENT
BEGIN:VEVENT
DTSTART;VALUE=DATE:20230518
DTEND;VALUE=DATE:20230520
DTSTAMP:20260425T122303
CREATED:20230715T094204Z
LAST-MODIFIED:20230715T094334Z
UID:6382-1684368000-1684540799@www.icmpune.org
SUMMARY:Programme on RBI Inspection and Compliance aspects of Cooperative Banks
DESCRIPTION:Duration: 2 Days \nCapacity: 25 \nSector: Cooperative Credit & Banking \nCourse  Coordinator: Dr. Devdatta A. Divekar \n  \n  \n 
URL:https://www.icmpune.org/annual-programme/programme-on-rbi-inspection-and-compliance-aspects-of-cooperative-banks/?lang=en
ORGANIZER;CN="ICM":MAILTO:info@icmpune.org
END:VEVENT
BEGIN:VEVENT
DTSTART;VALUE=DATE:20230524
DTEND;VALUE=DATE:20230527
DTSTAMP:20260425T122303
CREATED:20230715T094606Z
LAST-MODIFIED:20230715T094606Z
UID:6384-1684886400-1685145599@www.icmpune.org
SUMMARY:Programme on Advanced Excel for HR/Admin Officials
DESCRIPTION:Duration: 3 Days \nCapacity: 25 \nSector: Information Technology \nCourse  Coordinator: Dr. Devdatta A. Divekar \n  \n  \n 
URL:https://www.icmpune.org/annual-programme/programme-on-advanced-excel-for-hr-admin-officials/?lang=en
ORGANIZER;CN="ICM":MAILTO:info@icmpune.org
END:VEVENT
BEGIN:VEVENT
DTSTART;VALUE=DATE:20230529
DTEND;VALUE=DATE:20230601
DTSTAMP:20260425T122303
CREATED:20230715T095332Z
LAST-MODIFIED:20230715T095332Z
UID:6386-1685318400-1685577599@www.icmpune.org
SUMMARY:Programme on Income Tax and GST for Cooperative Sugar Factories
DESCRIPTION:Duration: 3 Days \nCapacity: 25 \nSector: Sugar Cooperatives \nCourse  Coordinator: Mrs. Vijayshri M. Bhagawati
URL:https://www.icmpune.org/annual-programme/programme-on-income-tax-and-gst-for-cooperative-sugar-factories/?lang=en
ORGANIZER;CN="ICM":MAILTO:info@icmpune.org
END:VEVENT
BEGIN:VEVENT
DTSTART;VALUE=DATE:20230606
DTEND;VALUE=DATE:20230609
DTSTAMP:20260425T122303
CREATED:20230715T095652Z
LAST-MODIFIED:20230715T095738Z
UID:6388-1686009600-1686268799@www.icmpune.org
SUMMARY:Programme on NPA Recovery & Securitization as applicable to Cooperative Banks for the SRO’s & Sales Officers
DESCRIPTION:Duration: 3 Days \nCapacity: 25 \nSector: Cooperative Credit & Banking \nCourse  Coordinator: Shri. Vaibhav S. Bodke
URL:https://www.icmpune.org/annual-programme/programme-on-npa-recovery-securitization-as-applicable-to-cooperative-banks-for-the-sros-sales-officers/?lang=en
ORGANIZER;CN="ICM":MAILTO:info@icmpune.org
END:VEVENT
BEGIN:VEVENT
DTSTART;VALUE=DATE:20230607
DTEND;VALUE=DATE:20230610
DTSTAMP:20260425T122303
CREATED:20230715T100009Z
LAST-MODIFIED:20230715T100042Z
UID:6391-1686096000-1686355199@www.icmpune.org
SUMMARY:Programme on Income Tax and GST Accounting of Cooperative Banks
DESCRIPTION:Duration: 3 Days \nCapacity: 25 \nSector: Cooperative Credit & Banking \nCourse  Coordinator: Shri. Omkar T. Kawade
URL:https://www.icmpune.org/annual-programme/programme-on-income-tax-and-gst-accounting-of-cooperative-banks-2/?lang=en
ORGANIZER;CN="ICM":MAILTO:info@icmpune.org
END:VEVENT
BEGIN:VEVENT
DTSTART;VALUE=DATE:20230607
DTEND;VALUE=DATE:20230610
DTSTAMP:20260425T122303
CREATED:20230715T100309Z
LAST-MODIFIED:20230715T100427Z
UID:6393-1686096000-1686355199@www.icmpune.org
SUMMARY:Programme on Cash Management and Fake Note Detection for Cooperative Banks
DESCRIPTION:Duration: 3 Days \nCapacity: 25 \nSector: Cooperative Credit & Banking \nCourse  Coordinator: Dr. Devdatta A. Divekar
URL:https://www.icmpune.org/annual-programme/programme-on-cash-management-and-fake-note-detection-for-cooperative-banks/?lang=en
ORGANIZER;CN="ICM":MAILTO:info@icmpune.org
END:VEVENT
BEGIN:VEVENT
DTSTART;VALUE=DATE:20230616
DTEND;VALUE=DATE:20230617
DTSTAMP:20260425T122303
CREATED:20230715T100711Z
LAST-MODIFIED:20230715T100733Z
UID:6395-1686873600-1686959999@www.icmpune.org
SUMMARY:Capacity Building Programme for Housing Cooperatives
DESCRIPTION:Duration: 1 Days \nCapacity: 25 \nSector: Housing Cooperatives \nCourse  Coordinator: Dr. Devdatta A. Divekar
URL:https://www.icmpune.org/annual-programme/capacity-building-programme-for-housing-cooperatives/?lang=en
ORGANIZER;CN="ICM":MAILTO:info@icmpune.org
END:VEVENT
BEGIN:VEVENT
DTSTART;VALUE=DATE:20230621
DTEND;VALUE=DATE:20230624
DTSTAMP:20260425T122303
CREATED:20230715T101030Z
LAST-MODIFIED:20230715T101030Z
UID:6397-1687305600-1687564799@www.icmpune.org
SUMMARY:Programme on Legal Aspects for Officers & Staff of Cooperative Banks
DESCRIPTION:Duration: 3 Days \nCapacity: 25 \nSector: Cooperative Credit & Banking \nCourse  Coordinator: Shri. Vaibhav S. Bodke
URL:https://www.icmpune.org/annual-programme/programme-on-legal-aspects-for-officers-staff-of-cooperative-banks/?lang=en
ORGANIZER;CN="ICM":MAILTO:info@icmpune.org
END:VEVENT
BEGIN:VEVENT
DTSTART;VALUE=DATE:20230621
DTEND;VALUE=DATE:20230624
DTSTAMP:20260425T122303
CREATED:20230715T101252Z
LAST-MODIFIED:20230715T101734Z
UID:6399-1687305600-1687564799@www.icmpune.org
SUMMARY:Programme on “Developing PACS into Multi-Purpose Societies” Sponsored by NABARD Under SOFTCOB Scheme
DESCRIPTION:Duration: 3 Days \nCapacity: 25 \nSector: Cooperative Credit & Banking \nCourse  Coordinator: Mrs. Vijayshri M. Bhagawati
URL:https://www.icmpune.org/annual-programme/programme-on-developing-pacs-into-multi-purpose-societies-sponsored-by-nabard-under-softcob-scheme/?lang=en
ORGANIZER;CN="ICM":MAILTO:info@icmpune.org
END:VEVENT
BEGIN:VEVENT
DTSTART;VALUE=DATE:20230621
DTEND;VALUE=DATE:20230624
DTSTAMP:20260425T122303
CREATED:20230715T101643Z
LAST-MODIFIED:20230715T101643Z
UID:6401-1687305600-1687564799@www.icmpune.org
SUMMARY:Online- Programme on Business Development\, Profit Planning and Diversification - Br. Managers/ Asstt. Managers / Officers of DCC Banks Sponsored by NABARD Under SOFTCOB Scheme
DESCRIPTION:Duration: 3 Days \nCapacity: 25 \nSector: Cooperative Credit & Banking \nCourse  Coordinator: Dr. Devdatta A. Divekar
URL:https://www.icmpune.org/annual-programme/online-programme-on-business-development-profit-planning-and-diversification-br-managers-asstt-managers-officers-of-dcc-banks-sponsored-by-nabard-under-softcob-scheme/?lang=en
ORGANIZER;CN="ICM":MAILTO:info@icmpune.org
END:VEVENT
BEGIN:VEVENT
DTSTART;VALUE=DATE:20230703
DTEND;VALUE=DATE:20230706
DTSTAMP:20260425T122303
CREATED:20230715T101900Z
LAST-MODIFIED:20230715T101936Z
UID:6404-1688342400-1688601599@www.icmpune.org
SUMMARY:Programme on Developing PACS into Multipurpose Socieites for-PACS Functionaries Sponsored by NABARD Under SOFTCOB Scheme
DESCRIPTION:Duration: 3 Days \nCapacity: 25 \nSector: Cooperative Credit & Banking \nCourse  Coordinator: Dr. Devdatta A. Divekar
URL:https://www.icmpune.org/annual-programme/programme-on-developing-pacs-into-multipurpose-socieites-for-pacs-functionaries-sponsored-by-nabard-under-softcob-scheme/?lang=en
ORGANIZER;CN="ICM":MAILTO:info@icmpune.org
END:VEVENT
BEGIN:VEVENT
DTSTART;VALUE=DATE:20230712
DTEND;VALUE=DATE:20230715
DTSTAMP:20260425T122303
CREATED:20230715T102115Z
LAST-MODIFIED:20230715T102338Z
UID:6406-1689120000-1689379199@www.icmpune.org
SUMMARY:Programme on Money Lending Act for the Officers of Department of Cooperation
DESCRIPTION:Duration: 3 Days \nCapacity: 25 \nSector: Cooperative Law and Allied Laws \nCourse  Coordinator: Shri. Vaibhav S. Bodke
URL:https://www.icmpune.org/annual-programme/programme-on-asset-liability-management-for-officers-of-cooperative-banks-sponsored-by-nabard-under-softcob-scheme/?lang=en
ORGANIZER;CN="ICM":MAILTO:info@icmpune.org
END:VEVENT
END:VCALENDAR