BEGIN:VCALENDAR
VERSION:2.0
PRODID:-//Co-operative Management Institute [ICM Pune] - ECPv6.1.3//NONSGML v1.0//EN
CALSCALE:GREGORIAN
METHOD:PUBLISH
X-WR-CALNAME:Co-operative Management Institute [ICM Pune]
X-ORIGINAL-URL:https://www.icmpune.org/?lang=en
X-WR-CALDESC:Events for Co-operative Management Institute [ICM Pune]
REFRESH-INTERVAL;VALUE=DURATION:PT1H
X-Robots-Tag:noindex
X-PUBLISHED-TTL:PT1H
BEGIN:VTIMEZONE
TZID:America/Indiana/Indianapolis
BEGIN:DAYLIGHT
TZOFFSETFROM:-0500
TZOFFSETTO:-0400
TZNAME:EDT
DTSTART:20230312T070000
END:DAYLIGHT
BEGIN:STANDARD
TZOFFSETFROM:-0400
TZOFFSETTO:-0500
TZNAME:EST
DTSTART:20231105T060000
END:STANDARD
END:VTIMEZONE
BEGIN:VEVENT
DTSTART;VALUE=DATE:20230703
DTEND;VALUE=DATE:20230706
DTSTAMP:20260423T011753
CREATED:20230715T101900Z
LAST-MODIFIED:20230715T101936Z
UID:6404-1688342400-1688601599@www.icmpune.org
SUMMARY:Programme on Developing PACS into Multipurpose Socieites for-PACS Functionaries Sponsored by NABARD Under SOFTCOB Scheme
DESCRIPTION:Duration: 3 Days \nCapacity: 25 \nSector: Cooperative Credit & Banking \nCourse  Coordinator: Dr. Devdatta A. Divekar
URL:https://www.icmpune.org/annual-programme/programme-on-developing-pacs-into-multipurpose-socieites-for-pacs-functionaries-sponsored-by-nabard-under-softcob-scheme/?lang=en
ORGANIZER;CN="ICM":MAILTO:info@icmpune.org
END:VEVENT
BEGIN:VEVENT
DTSTART;VALUE=DATE:20230712
DTEND;VALUE=DATE:20230715
DTSTAMP:20260423T011753
CREATED:20230715T102115Z
LAST-MODIFIED:20230715T102338Z
UID:6406-1689120000-1689379199@www.icmpune.org
SUMMARY:Programme on Money Lending Act for the Officers of Department of Cooperation
DESCRIPTION:Duration: 3 Days \nCapacity: 25 \nSector: Cooperative Law and Allied Laws \nCourse  Coordinator: Shri. Vaibhav S. Bodke
URL:https://www.icmpune.org/annual-programme/programme-on-asset-liability-management-for-officers-of-cooperative-banks-sponsored-by-nabard-under-softcob-scheme/?lang=en
ORGANIZER;CN="ICM":MAILTO:info@icmpune.org
END:VEVENT
BEGIN:VEVENT
DTSTART;VALUE=DATE:20230720
DTEND;VALUE=DATE:20230722
DTSTAMP:20260423T011753
CREATED:20230715T102635Z
LAST-MODIFIED:20230715T103003Z
UID:6410-1689811200-1689983999@www.icmpune.org
SUMMARY:Programme on Profitability through effective Branch Management
DESCRIPTION:Duration: 2 Days \nCapacity: 25 \nSector: Cooperative Credit & Banking \nCourse  Coordinator: Shri. Omkar T. Kawade
URL:https://www.icmpune.org/annual-programme/programme-on-profitability-through-effective-branch-management/?lang=en
END:VEVENT
BEGIN:VEVENT
DTSTART;VALUE=DATE:20230724
DTEND;VALUE=DATE:20230729
DTSTAMP:20260423T011753
CREATED:20230715T110957Z
LAST-MODIFIED:20230715T110957Z
UID:6417-1690156800-1690588799@www.icmpune.org
SUMMARY:Programme on Tally ERP 9 for Cooperatives
DESCRIPTION:Duration: 5 Days \nCapacity: 25 \nSector: Cooperative Accounts \nCourse  Coordinator: Dr. Devdatta A. Divekar
URL:https://www.icmpune.org/annual-programme/programme-on-tally-erp-9-for-cooperatives/?lang=en
END:VEVENT
BEGIN:VEVENT
DTSTART;VALUE=DATE:20230726
DTEND;VALUE=DATE:20230729
DTSTAMP:20260423T011753
CREATED:20230715T103514Z
LAST-MODIFIED:20230715T103514Z
UID:6413-1690329600-1690588799@www.icmpune.org
SUMMARY:Programme on Internal Checks and Controls for Cooperative Banks Sponsored by NABARD Under SOFTCOB Scheme
DESCRIPTION:Duration: 3 Days \nCapacity: 25 \nSector: Cooperative Credit & Banking \nCourse  Coordinator: Shri. Jivraj E. Patki
URL:https://www.icmpune.org/annual-programme/programme-on-internal-checks-and-controls-for-cooperative-banks-sponsored-by-nabard-under-softcob-scheme/?lang=en
END:VEVENT
BEGIN:VEVENT
DTSTART;VALUE=DATE:20230726
DTEND;VALUE=DATE:20230729
DTSTAMP:20260423T011753
CREATED:20230715T103702Z
LAST-MODIFIED:20230715T103702Z
UID:6415-1690329600-1690588799@www.icmpune.org
SUMMARY:Programme on Loan Policy\, IRAC Norms and Legal aspects in Banking for Newly recruited/Newly Promoted Branch Managers of Cooperative
DESCRIPTION:Duration: 3 Days \nCapacity: 25 \nSector: Cooperative Credit & Banking \nCourse  Coordinator: Mrs. Vijayshri M. Bhagawati
URL:https://www.icmpune.org/annual-programme/programme-on-loan-policy-irac-norms-and-legal-aspects-in-banking-for-newly-recruited-newly-promoted-branch-managers-of-cooperative/?lang=en
END:VEVENT
BEGIN:VEVENT
DTSTART;VALUE=DATE:20230808
DTEND;VALUE=DATE:20230811
DTSTAMP:20260423T011753
CREATED:20230715T111220Z
LAST-MODIFIED:20230715T111220Z
UID:6419-1691452800-1691711999@www.icmpune.org
SUMMARY:Programme on Developing PACS into Multipurpose Societies - for PACS Functionaries Sponsored by NABARD Under SOFTCOB Scheme
DESCRIPTION:Duration: 3 Days \nCapacity: 25 \nSector:Cooperative Credit & Banking \nCourse  Coordinator: Shri. Jivraj E. Patki
URL:https://www.icmpune.org/annual-programme/programme-on-developing-pacs-into-multipurpose-societies-for-pacs-functionaries-sponsored-by-nabard-under-softcob-scheme/?lang=en
END:VEVENT
BEGIN:VEVENT
DTSTART;VALUE=DATE:20230809
DTEND;VALUE=DATE:20230812
DTSTAMP:20260423T011753
CREATED:20230715T111409Z
LAST-MODIFIED:20230715T111434Z
UID:6421-1691539200-1691798399@www.icmpune.org
SUMMARY:Programme for Clerks “Special Focus on Enhancing the Business of Cooperative Banks “
DESCRIPTION:Duration: 3 Days \nCapacity: 25 \nSector:Cooperative Credit & Banking \nCourse  Coordinator: Shri. Omkar T. Kawade
URL:https://www.icmpune.org/annual-programme/programme-for-clerks-special-focus-on-enhancing-the-business-of-cooperative-banks-2/?lang=en
END:VEVENT
BEGIN:VEVENT
DTSTART;VALUE=DATE:20230809
DTEND;VALUE=DATE:20230812
DTSTAMP:20260423T011753
CREATED:20230715T111554Z
LAST-MODIFIED:20230715T111621Z
UID:6423-1691539200-1691798399@www.icmpune.org
SUMMARY:Know Your Customer\, Prevention of Money Laundering and Customer Protection-Br. Managers/Asstt. Managers/Officers of Cooperative Banks Sponsored by NABARD Under SOFTCOB Scheme
DESCRIPTION:Duration: 3 Days \nCapacity: 25 \nSector: Cooperative Credit & Banking \nCourse  Coordinator: Dr. Devdatta A. Divekar
URL:https://www.icmpune.org/annual-programme/know-your-customer-prevention-of-money-laundering-and-customer-protection-br-managers-asstt-managers-officers-of-cooperative-banks-sponsored-by-nabard-under-softcob-scheme/?lang=en
END:VEVENT
BEGIN:VEVENT
DTSTART;VALUE=DATE:20230823
DTEND;VALUE=DATE:20230826
DTSTAMP:20260423T011753
CREATED:20230715T111737Z
LAST-MODIFIED:20230715T111737Z
UID:6425-1692748800-1693007999@www.icmpune.org
SUMMARY:Programme on Recovery & NPA Management for Cooperative Banks
DESCRIPTION:Duration: 3 Days \nCapacity: 25 \nSector: Cooperative Credit & Banking \nCourse  Coordinator: Shri. Vaibhav S. Bodke
URL:https://www.icmpune.org/annual-programme/programme-on-recovery-npa-management-for-cooperative-banks/?lang=en
END:VEVENT
BEGIN:VEVENT
DTSTART;VALUE=DATE:20230823
DTEND;VALUE=DATE:20230826
DTSTAMP:20260423T011753
CREATED:20230715T111914Z
LAST-MODIFIED:20230715T111914Z
UID:6427-1692748800-1693007999@www.icmpune.org
SUMMARY:Programme for Admin/ HR Managers / Officers of Cooperatives
DESCRIPTION:Duration: 3 Days \nCapacity: 25 \nSector: Professionalization of Cooperatives \nCourse  Coordinator: Mrs. Vijayshri M. Bhagawati
URL:https://www.icmpune.org/annual-programme/programme-for-admin-hr-managers-officers-of-cooperatives-2/?lang=en
END:VEVENT
BEGIN:VEVENT
DTSTART;VALUE=DATE:20230824
DTEND;VALUE=DATE:20230826
DTSTAMP:20260423T011753
CREATED:20230715T112121Z
LAST-MODIFIED:20230715T112121Z
UID:6429-1692835200-1693007999@www.icmpune.org
SUMMARY:Programme on Risk Based Internal Audit for Cooperative Banks
DESCRIPTION:Duration: 2 Days \nCapacity: 25 \nSector: Cooperative Credit & Banking \nCourse  Coordinator: Dr. Devdatta A. Divekar
URL:https://www.icmpune.org/annual-programme/programme-on-risk-based-internal-audit-for-cooperative-banks/?lang=en
END:VEVENT
BEGIN:VEVENT
DTSTART;VALUE=DATE:20230901
DTEND;VALUE=DATE:20230902
DTSTAMP:20260423T011753
CREATED:20230715T112259Z
LAST-MODIFIED:20230715T112309Z
UID:6431-1693526400-1693612799@www.icmpune.org
SUMMARY:Capacity Building Programme for Housing Cooperatives
DESCRIPTION:Duration:  1 Days \nCapacity: 25 \nSector: Housing Cooperatives \nCourse  Coordinator: Dr. Devdatta A. Divekar
URL:https://www.icmpune.org/annual-programme/capacity-building-programme-for-housing-cooperatives-2/?lang=en
END:VEVENT
BEGIN:VEVENT
DTSTART;VALUE=DATE:20230905
DTEND;VALUE=DATE:20230908
DTSTAMP:20260423T011753
CREATED:20230715T112503Z
LAST-MODIFIED:20230715T112503Z
UID:6433-1693872000-1694131199@www.icmpune.org
SUMMARY:Programme for Newly Recruited Clerks/Trainee Clerks of the Cooperative Banks
DESCRIPTION:Duration:  3 Days \nCapacity: 25 \nSector: Cooperative Credit & Banking \nCourse  Coordinator: Shri. Omkar T. Kawade
URL:https://www.icmpune.org/annual-programme/programme-for-newly-recruited-clerks-trainee-clerks-of-the-cooperative-banks-2/?lang=en
END:VEVENT
BEGIN:VEVENT
DTSTART;VALUE=DATE:20230908
DTEND;VALUE=DATE:20230909
DTSTAMP:20260423T011753
CREATED:20230715T112647Z
LAST-MODIFIED:20230715T112647Z
UID:6435-1694131200-1694217599@www.icmpune.org
SUMMARY:Workshop on Tax Deducted at Source (TDS) Submission of 15H/15G & further Procedure\, submission of on-line returns for Cooperative Banks
DESCRIPTION:Duration:  1 Days \nCapacity: 25 \nSector: Cooperative Credit & Banking \nCourse  Coordinator: Shri. Vaibhav S. Bodke
URL:https://www.icmpune.org/annual-programme/workshop-on-tax-deducted-at-source-tds-submission-of-15h-15g-further-procedure-submission-of-on-line-returns-for-cooperative-banks/?lang=en
END:VEVENT
BEGIN:VEVENT
DTSTART;VALUE=DATE:20230911
DTEND;VALUE=DATE:20230913
DTSTAMP:20260423T011753
CREATED:20230715T112854Z
LAST-MODIFIED:20230715T112911Z
UID:6437-1694390400-1694563199@www.icmpune.org
SUMMARY:Programme on Cyber Security Policy for Cooperatives
DESCRIPTION:Duration:  2 Days \nCapacity: 25 \nSector: Information Technology \nCourse  Coordinator: Dr. Devdatta A. Divekar
URL:https://www.icmpune.org/annual-programme/programme-on-cyber-security-policy-for-cooperatives/?lang=en
END:VEVENT
BEGIN:VEVENT
DTSTART;VALUE=DATE:20230914
DTEND;VALUE=DATE:20230916
DTSTAMP:20260423T011753
CREATED:20230715T113552Z
LAST-MODIFIED:20230715T113552Z
UID:6439-1694649600-1694822399@www.icmpune.org
SUMMARY:Programme on Branch Vaiability
DESCRIPTION:Duration:  2 Days \nCapacity: 25 \nSector: Cooperative Credit & Banking \nCourse  Coordinator: Mrs. Vijayshri M. Bhagawati
URL:https://www.icmpune.org/annual-programme/programme-on-branch-vaiability/?lang=en
END:VEVENT
BEGIN:VEVENT
DTSTART;VALUE=DATE:20230925
DTEND;VALUE=DATE:20230928
DTSTAMP:20260423T011753
CREATED:20230715T113713Z
LAST-MODIFIED:20230715T113713Z
UID:6441-1695600000-1695859199@www.icmpune.org
SUMMARY:Programme on Domestic Enquiry for Cooperative Banks
DESCRIPTION:Duration:  3 Days \nCapacity: 25 \nSector: Cooperative Credit & Banking \nCourse  Coordinator: Shri. Vaibhav S. Bodke
URL:https://www.icmpune.org/annual-programme/programme-on-domestic-enquiry-for-cooperative-banks/?lang=en
END:VEVENT
BEGIN:VEVENT
DTSTART;VALUE=DATE:20231004
DTEND;VALUE=DATE:20231007
DTSTAMP:20260423T011753
CREATED:20230715T113832Z
LAST-MODIFIED:20230715T113832Z
UID:6443-1696377600-1696636799@www.icmpune.org
SUMMARY:Programme on Loan Proposals\, Documentation and NPA Prevention for Managers/Officers of Cooperative Banks
DESCRIPTION:Duration:  3 Days \nCapacity: 25 \nSector: Cooperative Credit & Banking \nCourse  Coordinator: Shri. Omkar T. Kawade
URL:https://www.icmpune.org/annual-programme/programme-on-loan-proposals-documentation-and-npa-prevention-for-managers-officers-of-cooperative-banks-2/?lang=en
END:VEVENT
BEGIN:VEVENT
DTSTART;VALUE=DATE:20231005
DTEND;VALUE=DATE:20231007
DTSTAMP:20260423T011753
CREATED:20230715T114301Z
LAST-MODIFIED:20230715T114359Z
UID:6445-1696464000-1696636799@www.icmpune.org
SUMMARY:Treasury and Investment Management for Cooperative Banks
DESCRIPTION:Duration:  2 Days \nCapacity: 25 \nSector: Cooperative Credit & Banking \nCourse  Coordinator: Dr. Devdatta A. Divekar
URL:https://www.icmpune.org/annual-programme/treasury-and-investment-management-for-cooperative-banks/?lang=en
END:VEVENT
BEGIN:VEVENT
DTSTART;VALUE=DATE:20231010
DTEND;VALUE=DATE:20231013
DTSTAMP:20260423T011753
CREATED:20230715T114729Z
LAST-MODIFIED:20230715T114729Z
UID:6447-1696896000-1697155199@www.icmpune.org
SUMMARY:Programme on Asset Liability Management for Officers of Cooperative Banks Sponsored by NABARD Under SOFTCOB Scheme
DESCRIPTION:Duration:  3 Days \nCapacity: 25 \nSector: Cooperative Credit & Banking \nCourse  Coordinator:Shri. Jivraj E. Patki
URL:https://www.icmpune.org/annual-programme/programme-on-asset-liability-management-for-officers-of-cooperative-banks-sponsored-by-nabard-under-softcob-scheme-2/?lang=en
END:VEVENT
BEGIN:VEVENT
DTSTART;VALUE=DATE:20231018
DTEND;VALUE=DATE:20231021
DTSTAMP:20260423T011753
CREATED:20230715T114944Z
LAST-MODIFIED:20230715T115047Z
UID:6449-1697587200-1697846399@www.icmpune.org
SUMMARY:Programme on Business Development Plan  for PACS Secretaries Sponsored by NABARD Under SOFTCOB Scheme
DESCRIPTION:Duration:  3 Days \nCapacity: 25 \nSector: Cooperative Credit & Banking \nCourse  Coordinator: Dr. Devdatta A. Divekar
URL:https://www.icmpune.org/annual-programme/programme-on-self-sustenance-through-improved-governance-and-management-of-resources-for-bod-of-pacs-sponsored-by-nabard-under-softcob-scheme/?lang=en
END:VEVENT
BEGIN:VEVENT
DTSTART;VALUE=DATE:20231019
DTEND;VALUE=DATE:20231021
DTSTAMP:20260423T011753
CREATED:20230715T120101Z
LAST-MODIFIED:20230715T120101Z
UID:6456-1697673600-1697846399@www.icmpune.org
SUMMARY:Training Programme for Peons/MTS of Cooperative Institution Transform them into Responsible Employees
DESCRIPTION:Duration:  2 Days \nCapacity: 25 \nSector: Professionalization of Cooperatives \nCourse  Coordinator: Shri. Vaibhav S. Bodke
URL:https://www.icmpune.org/annual-programme/training-programme-for-peons-mts-of-cooperative-institution-transform-them-into-responsible-employees-2/?lang=en
END:VEVENT
BEGIN:VEVENT
DTSTART;VALUE=DATE:20231101
DTEND;VALUE=DATE:20231104
DTSTAMP:20260423T011753
CREATED:20230715T115238Z
LAST-MODIFIED:20230715T115746Z
UID:6452-1698796800-1699055999@www.icmpune.org
SUMMARY:Programme on Asset Liability Management for Officers of District Central Coop. Banks sponsored by NABARD Under SOFTCOB Scheme
DESCRIPTION:Duration:  3 Days \nCapacity: 25 \nSector: Cooperative Credit & Banking \nCourse  Coordinator: Mrs. Vijayshri M. Bhagawati
URL:https://www.icmpune.org/annual-programme/training-programme-for-peons-mts-of-cooperative-institution-transform-them-into-responsible-employees/?lang=en
END:VEVENT
BEGIN:VEVENT
DTSTART;VALUE=DATE:20231101
DTEND;VALUE=DATE:20231104
DTSTAMP:20260423T011753
CREATED:20230715T120233Z
LAST-MODIFIED:20230715T120233Z
UID:6458-1698796800-1699055999@www.icmpune.org
SUMMARY:Programme on Cash Management and Fake Note Detection for Cooperative Banks
DESCRIPTION:Duration:  3 Days \nCapacity: 25 \nSector: Cooperative Credit & Banking \nCourse  Coordinator: Dr. Devdatta A. Divekar
URL:https://www.icmpune.org/annual-programme/programme-on-cash-management-and-fake-note-detection-for-cooperative-banks-2/?lang=en
END:VEVENT
BEGIN:VEVENT
DTSTART;VALUE=DATE:20231107
DTEND;VALUE=DATE:20231110
DTSTAMP:20260423T011753
CREATED:20230715T151955Z
LAST-MODIFIED:20230715T152036Z
UID:6460-1699315200-1699574399@www.icmpune.org
SUMMARY:Online-Programme on Know Your Customer\, Prevention of Money Laundering and Customer Protection-Br. Managers/Asstt. Managers/Officers of banks Sponsored by NABARD Under SOFTCOB Scheme
DESCRIPTION:Duration:  3 Days \nCapacity: 25 \nSector: Cooperative Credit & Banking \nCourse  Coordinator: Shri. Jivraj E. Patki
URL:https://www.icmpune.org/annual-programme/online-programme-on-know-your-customer-prevention-of-money-laundering-and-customer-protection-br-managers-asstt-managers-officers-of-banks-sponsored-by-nabard-under-softcob-scheme-2/?lang=en
END:VEVENT
BEGIN:VEVENT
DTSTART;VALUE=DATE:20231107
DTEND;VALUE=DATE:20231110
DTSTAMP:20260423T011753
CREATED:20230715T152507Z
LAST-MODIFIED:20230715T152507Z
UID:6464-1699315200-1699574399@www.icmpune.org
SUMMARY:Management Development Programme for Sr. Officers/ Managers of District Central Cooperative Banks Sponsored by NABARD Under SOFTCOB Scheme
DESCRIPTION:Duration:  3 Days \nCapacity: 25 \nSector: Cooperative Credit & Banking \nCourse  Coordinator: Dr. Devdatta A. Divekar
URL:https://www.icmpune.org/annual-programme/management-development-programme-for-sr-officers-managers-of-district-central-cooperative-banks-sponsored-by-nabard-under-softcob-scheme/?lang=en
END:VEVENT
BEGIN:VEVENT
DTSTART;VALUE=DATE:20231122
DTEND;VALUE=DATE:20231125
DTSTAMP:20260423T011753
CREATED:20230715T152415Z
LAST-MODIFIED:20230715T152415Z
UID:6463-1700611200-1700870399@www.icmpune.org
SUMMARY:Management Development Programme for Consumer / Marketing Cooperative Societies
DESCRIPTION:Duration:  3 Days \nCapacity: 25 \nSector:Consumer Cooperatives \nCourse  Coordinator: Mrs. Vijayshri M. Bhagawati
URL:https://www.icmpune.org/annual-programme/management-development-programme-for-consumer-marketing-cooperative-societies-2/?lang=en
END:VEVENT
BEGIN:VEVENT
DTSTART;VALUE=DATE:20231129
DTEND;VALUE=DATE:20231130
DTSTAMP:20260423T011753
CREATED:20230715T153434Z
LAST-MODIFIED:20230715T153434Z
UID:6468-1701216000-1701302399@www.icmpune.org
SUMMARY:Training Programme on Preparation and Filing of GST for Cooperative Banks
DESCRIPTION:Duration:  1 Days \nCapacity: 25 \nSector: Cooperative Credit & Banking \nCourse  Coordinator: Shri. Vaibhav S. Bodke
URL:https://www.icmpune.org/annual-programme/training-programme-on-preparation-and-filing-of-gst-for-cooperative-banks/?lang=en
END:VEVENT
BEGIN:VEVENT
DTSTART;VALUE=DATE:20231129
DTEND;VALUE=DATE:20231201
DTSTAMP:20260423T011753
CREATED:20230715T153542Z
LAST-MODIFIED:20230715T153542Z
UID:6467-1701216000-1701388799@www.icmpune.org
SUMMARY:Leadership Development Programme for Women Managers/Officers of Cooperative Banks
DESCRIPTION:Duration:  2 Days \nCapacity: 25 \nSector: Cooperative Credit & Banking \nCourse  Coordinator: Mrs. Vijayshri M. Bhagawati
URL:https://www.icmpune.org/annual-programme/leadership-development-programme-for-women-managers-officers-of-cooperative-banks-2/?lang=en
END:VEVENT
END:VCALENDAR