BEGIN:VCALENDAR
VERSION:2.0
PRODID:-//Co-operative Management Institute [ICM Pune] - ECPv6.1.3//NONSGML v1.0//EN
CALSCALE:GREGORIAN
METHOD:PUBLISH
X-WR-CALNAME:Co-operative Management Institute [ICM Pune]
X-ORIGINAL-URL:https://www.icmpune.org/?lang=en
X-WR-CALDESC:Events for Co-operative Management Institute [ICM Pune]
REFRESH-INTERVAL;VALUE=DURATION:PT1H
X-Robots-Tag:noindex
X-PUBLISHED-TTL:PT1H
BEGIN:VTIMEZONE
TZID:America/Indiana/Indianapolis
BEGIN:DAYLIGHT
TZOFFSETFROM:-0500
TZOFFSETTO:-0400
TZNAME:EDT
DTSTART:20240310T070000
END:DAYLIGHT
BEGIN:STANDARD
TZOFFSETFROM:-0400
TZOFFSETTO:-0500
TZNAME:EST
DTSTART:20241103T060000
END:STANDARD
END:VTIMEZONE
BEGIN:VEVENT
DTSTART;VALUE=DATE:20240307
DTEND;VALUE=DATE:20240508
DTSTAMP:20260422T182439
CREATED:20240704T065841Z
LAST-MODIFIED:20240704T065841Z
UID:7399-1709769600-1715126399@www.icmpune.org
SUMMARY:Programme on Developing PACS into Multipurpose Societies  Sponsored by NABARD Under SOFTCOB Scheme
DESCRIPTION:Duration:  3 Days \nCapacity: 25 \nSector: Cooperative Credit & Banking\n \nCourse  Coordinator: Mr. J.E. Patki\n \nTarget Group: Managers \nIn Campus/Outstation: In Campus
URL:https://www.icmpune.org/annual-programme/programme-on-developing-pacs-into-multipurpose-societies-sponsored-by-nabard-under-softcob-scheme/?lang=en
END:VEVENT
BEGIN:VEVENT
DTSTART;VALUE=DATE:20240312
DTEND;VALUE=DATE:20240315
DTSTAMP:20260422T182439
CREATED:20230718T121610Z
LAST-MODIFIED:20230718T121610Z
UID:6529-1710201600-1710460799@www.icmpune.org
SUMMARY:Leadership Development Programme for Women Directors of Cooperative Banks
DESCRIPTION:Duration:  3 Days \nCapacity: 25 \nSector: Cooperative Credit & Banking \nCourse  Coordinator: Mrs. Vijayshri M. Bhagawati
URL:https://www.icmpune.org/annual-programme/leadership-development-programme-for-women-directors-of-cooperative-banks/?lang=en
END:VEVENT
BEGIN:VEVENT
DTSTART;VALUE=DATE:20240322
DTEND;VALUE=DATE:20240323
DTSTAMP:20260422T182439
CREATED:20230718T121738Z
LAST-MODIFIED:20230718T122032Z
UID:6531-1711065600-1711151999@www.icmpune.org
SUMMARY:Programme on Capacity Building for Housing Cooperatives
DESCRIPTION:Duration:  1 Days \nCapacity: 25 \nSector: Housing Cooperatives \nCourse  Coordinator: Dr. Devdatta A. Divekar
URL:https://www.icmpune.org/annual-programme/programme-on-capacity-building-for-housing-cooperatives-2/?lang=en
END:VEVENT
BEGIN:VEVENT
DTSTART;VALUE=DATE:20240402
DTEND;VALUE=DATE:20240404
DTSTAMP:20260422T182439
CREATED:20240704T100507Z
LAST-MODIFIED:20240704T101113Z
UID:7466-1712016000-1712188799@www.icmpune.org
SUMMARY:Programme on Capacity building for fisheries cooperative societies
DESCRIPTION:Duration:  2 Days\nCapacity: 25 \nSector: Fisheries \nCourse  Coordinator:Mr. J.E. Patki \nTarget Group: BoD & Officers \nIn Campus/Outstation: Outstation
URL:https://www.icmpune.org/annual-programme/programme-on-capacity-building-for-fisheries-cooperative-societies/?lang=en
END:VEVENT
BEGIN:VEVENT
DTSTART;VALUE=DATE:20240404
DTEND;VALUE=DATE:20240406
DTSTAMP:20260422T182439
CREATED:20240704T100509Z
LAST-MODIFIED:20240704T100509Z
UID:7467-1712188800-1712361599@www.icmpune.org
SUMMARY:Programme on Important acts & provisions applicable to cooperative Societies for the Certified Auditors
DESCRIPTION:Duration:  2 Days\nCapacity: 25 \nSector: Audit and Stasistics   \nCourse  Coordinator:Omkar T. Kawade  \nTarget Group: Certified Auditors  \nIn Campus/Outstation: In  Campus
URL:https://www.icmpune.org/annual-programme/programme-on-important-acts-provisions-applicable-to-cooperative-societies-for-the-certified-auditors-2/?lang=en
END:VEVENT
BEGIN:VEVENT
DTSTART;VALUE=DATE:20240418
DTEND;VALUE=DATE:20240420
DTSTAMP:20260422T182439
CREATED:20240704T100510Z
LAST-MODIFIED:20240729T073518Z
UID:7468-1713398400-1713571199@www.icmpune.org
SUMMARY:Programme on Treasury and Investment Management for Cooperative Banks
DESCRIPTION:Duration:  2 Days\nCapacity: 25 \nSector: Cooperative Credit & Banking \nCourse  Coordinator:Dr. Devdatta A. Divekar \nTarget Group: Officers \nIn Campus/Outstation: In Campus
URL:https://www.icmpune.org/annual-programme/programme-on-treasury-and-investment-management-for-cooperative-banks-2/?lang=en
END:VEVENT
BEGIN:VEVENT
DTSTART;VALUE=DATE:20240423
DTEND;VALUE=DATE:20240426
DTSTAMP:20260422T182439
CREATED:20240704T100510Z
LAST-MODIFIED:20240729T073618Z
UID:7469-1713830400-1714089599@www.icmpune.org
SUMMARY:Programme on NPA Recovery & Securitization as applicable to Cooperative Banks for the SRO's & Sales Officers
DESCRIPTION:Duration:  3 Days\nCapacity: 25 \nSector: Cooperative Credit & Banking \nCourse  Coordinator:Mr. Vaibhav S. Bodke \nTarget Group: Senior Recovery Officers & Sales Officers \nIn Campus/Outstation: In Campus
URL:https://www.icmpune.org/annual-programme/programme-on-npa-recovery-securitization-as-applicable-to-cooperative-banks-for-the-sros-sales-officers-2/?lang=en
END:VEVENT
BEGIN:VEVENT
DTSTART;VALUE=DATE:20240424
DTEND;VALUE=DATE:20240427
DTSTAMP:20260422T182439
CREATED:20240704T100511Z
LAST-MODIFIED:20240729T105136Z
UID:7470-1713916800-1714175999@www.icmpune.org
SUMMARY:Programme on Effective Use of MS-Excel by Officers and Managers of HR Department
DESCRIPTION:Duration:  3 Days\nCapacity: 25 \nSector: Information Technology \nCourse  Coordinator:Dr. Devdatta A. Divekar \nTarget Group: Auditors \nIn Campus/Outstation: In Campus
URL:https://www.icmpune.org/annual-programme/programme-on-effective-use-of-ms-excel-by-officers-and-managers-of-hr-department/?lang=en
END:VEVENT
BEGIN:VEVENT
DTSTART;VALUE=DATE:20240506
DTEND;VALUE=DATE:20240509
DTSTAMP:20260422T182439
CREATED:20240712T065910Z
LAST-MODIFIED:20240729T073822Z
UID:7497-1714953600-1715212799@www.icmpune.org
SUMMARY:Programme on Credit Appraisal & Documentation for Cooperative Banks
DESCRIPTION:“Duration:  3 Days\nCapacity: 25 \nSector: Cooperative Credit & Banking \nCourse  Coordinator:Omkar T. Kawade \nTarget Group:\nOfficers\nIn Campus/Outstation: In Campus “
URL:https://www.icmpune.org/annual-programme/programme-on-credit-appraisal-documentation-for-cooperative-banks-2/?lang=en
END:VEVENT
BEGIN:VEVENT
DTSTART;VALUE=DATE:20240509
DTEND;VALUE=DATE:20240511
DTSTAMP:20260422T182439
CREATED:20240712T065911Z
LAST-MODIFIED:20240729T104953Z
UID:7498-1715212800-1715385599@www.icmpune.org
SUMMARY:Workshop on “Drafting Cyber Security Policy” for Dairy and Sugar Factories
DESCRIPTION:“Duration:  2 Days\nCapacity: 25 \nSector: Information Technology \nCourse  Coordinator:Dr. Devdatta A. Divekar \nTarget Group: Officers \nIn Campus/Outstation: In Campus “
URL:https://www.icmpune.org/annual-programme/workshop-on-drafting-cyber-security-policy-for-dairy-and-sugar-factories/?lang=en
END:VEVENT
BEGIN:VEVENT
DTSTART;VALUE=DATE:20240514
DTEND;VALUE=DATE:20240517
DTSTAMP:20260422T182439
CREATED:20240712T065912Z
LAST-MODIFIED:20240729T104804Z
UID:7499-1715644800-1715903999@www.icmpune.org
SUMMARY:Programme on Legal Aspects for Officers & Staff of Cooperative Banks
DESCRIPTION:“Duration:  3 Days\nCapacity: 25 \nSector:\nCooperative Credit & Banking\nCourse  Coordinator:Mr. Vaibhav S. Bodke \nTarget Group:\nOfficers & Staff\nIn Campus/Outstation: In Campus “
URL:https://www.icmpune.org/annual-programme/programme-on-legal-aspects-for-officers-staff-of-cooperative-banks-2/?lang=en
END:VEVENT
BEGIN:VEVENT
DTSTART;VALUE=DATE:20240520
DTEND;VALUE=DATE:20240523
DTSTAMP:20260422T182439
CREATED:20240712T065913Z
LAST-MODIFIED:20240729T103213Z
UID:7500-1716163200-1716422399@www.icmpune.org
SUMMARY:Leadership Development Programme for Maharashtra State Labour Cooperative Societies
DESCRIPTION:“Duration:  3 Days\nCapacity: 25 \nSector: Labour Cooperative \nCourse  Coordinator:Mr. J.E. Patki \nTarget Group: BoD/ Chairman/vice chairman \nIn Campus/Outstation: In Campus “
URL:https://www.icmpune.org/annual-programme/leadership-development-programme-for-maharashtra-state-labour-cooperative-societies/?lang=en
END:VEVENT
BEGIN:VEVENT
DTSTART;VALUE=DATE:20240529
DTEND;VALUE=DATE:20240601
DTSTAMP:20260422T182439
CREATED:20240712T065914Z
LAST-MODIFIED:20240729T103100Z
UID:7501-1716940800-1717199999@www.icmpune.org
SUMMARY:Programme for Certified Auditors of Cooperative of Maharshtra State (in colloboration with Maharashtra State Certified Auditor Association)
DESCRIPTION:“Duration:  3 Days \nCapacity: 25 \nSector: Sugar Cooperatives \nCourse  Coordinator:Dr. Omkar T. Kawade \nTarget Group: Auditors \nIn Campus/Outstation: In Campus “
URL:https://www.icmpune.org/annual-programme/programme-for-certified-auditors-of-cooperative-of-maharshtra-state-in-colloboration-with-maharashtra-state-certified-auditor-association-2/?lang=en
END:VEVENT
BEGIN:VEVENT
DTSTART;VALUE=DATE:20240603
DTEND;VALUE=DATE:20240605
DTSTAMP:20260422T182439
CREATED:20240712T074616Z
LAST-MODIFIED:20240729T102901Z
UID:7507-1717372800-1717545599@www.icmpune.org
SUMMARY:Programme on Risk Based Internal Audit for Cooperative Banks
DESCRIPTION:“Duration:  2 Days\nCapacity: 25 \nSector: Cooperative Credit & Banking \nCourse  Coordinator:Dr. Dr. Devdatta A. Divekar \nTarget Group: Officers \nIn Campus/Outstation: In Campus “
URL:https://www.icmpune.org/annual-programme/programme-on-risk-based-internal-audit-for-cooperative-banks-2/?lang=en
END:VEVENT
BEGIN:VEVENT
DTSTART;VALUE=DATE:20240605
DTEND;VALUE=DATE:20240608
DTSTAMP:20260422T182439
CREATED:20240712T074617Z
LAST-MODIFIED:20240729T102729Z
UID:7508-1717545600-1717804799@www.icmpune.org
SUMMARY:Programme on Income Tax and GST for Cooperative Banks
DESCRIPTION:“Duration:  3 Days\nCapacity: 25 \nSector: Cooperative Credit & Banking \nCourse  Coordinator:Omkar T. Kawade \nTarget Group: Officers \nIn Campus/Outstation: In Campus “
URL:https://www.icmpune.org/annual-programme/programme-on-income-tax-and-gst-for-cooperative-banks/?lang=en
END:VEVENT
BEGIN:VEVENT
DTSTART;VALUE=DATE:20240610
DTEND;VALUE=DATE:20240612
DTSTAMP:20260422T182439
CREATED:20240712T074617Z
LAST-MODIFIED:20240729T102450Z
UID:7509-1717977600-1718150399@www.icmpune.org
SUMMARY:Banking awareness Programme for newly recruited employees (Goa State)
DESCRIPTION:“Duration:  2 Days\nCapacity: 25 \nSector: Cooperative Credit & Banking \nCourse  Coordinator:Mr. J.E. Patki \nTarget Group:\nNewly Recruited officers\nIn Campus/Outstation: In Campus “
URL:https://www.icmpune.org/annual-programme/banking-awareness-programme-for-newly-recruited-employees-goa-state/?lang=en
END:VEVENT
BEGIN:VEVENT
DTSTART;VALUE=DATE:20240625
DTEND;VALUE=DATE:20240628
DTSTAMP:20260422T182439
CREATED:20240712T074618Z
LAST-MODIFIED:20240729T102400Z
UID:7510-1719273600-1719532799@www.icmpune.org
SUMMARY:Programme on Recovery & NPA Management for Cooperative Banks
DESCRIPTION:“Duration:  3 Days\nCapacity: 25 \nSector: Cooperative Credit & Banking \nCourse  Coordinator:Mr. Vaibhav S. Bodke \nTarget Group:Senior Recovery Officers & Sales Officers \nIn Campus/Outstation: In Campus “
URL:https://www.icmpune.org/annual-programme/programme-on-recovery-npa-management-for-cooperative-banks-2/?lang=en
END:VEVENT
BEGIN:VEVENT
DTSTART;VALUE=DATE:20240626
DTEND;VALUE=DATE:20240629
DTSTAMP:20260422T182439
CREATED:20240712T074619Z
LAST-MODIFIED:20240729T102230Z
UID:7511-1719360000-1719619199@www.icmpune.org
SUMMARY:Programme on Accounting Standards & Auditing Standards applicable to Cooperative Banks (In Collaboration with Maharashtra State Certified Auditors Council & Welfare Association)
DESCRIPTION:“Duration:  3 Days\nCapacity: 25 \nSector: Cooperative Credit & Banking \nCourse  Coordinator:Omkar T. Kawade \nTarget Group:Certified Auditors \nIn Campus/Outstation: In Campus “
URL:https://www.icmpune.org/annual-programme/programme-on-accounting-standards-auditing-standards-applicable-to-cooperative-banks-in-collaboration-with-maharashtra-state-certified-auditors-council-welfare-association-2/?lang=en
END:VEVENT
BEGIN:VEVENT
DTSTART;VALUE=DATE:20240703
DTEND;VALUE=DATE:20240706
DTSTAMP:20260422T182439
CREATED:20240712T074624Z
LAST-MODIFIED:20240712T074624Z
UID:7512-1719964800-1720223999@www.icmpune.org
SUMMARY:Programme on Developing PACS into Multipurpose Societies  Sponsored by NABARD Under SOFTCOB Scheme
DESCRIPTION:“Duration:  3 Days\nCapacity: 25 \nSector: Cooperative Credit & Banking  \nCourse  Coordinator: Cooperative Credit & Banking \nTarget Group: Managers  \nIn Campus/Outstation: In  Campus  ”
URL:https://www.icmpune.org/annual-programme/programme-on-developing-pacs-into-multipurpose-societies-sponsored-by-nabard-under-softcob-scheme-2/?lang=en
END:VEVENT
BEGIN:VEVENT
DTSTART;VALUE=DATE:20240705
DTEND;VALUE=DATE:20240706
DTSTAMP:20260422T182439
CREATED:20240712T074624Z
LAST-MODIFIED:20240729T102033Z
UID:7513-1720137600-1720223999@www.icmpune.org
SUMMARY:Workshop on Tax Deducted at Source (TDS) Submission of 15H/15G & further Procedure\, submission of on-line returns for Cooperative Banks
DESCRIPTION:“Duration:  1 Day\nCapacity: 25 \nSector: Cooperative Credit & Banking \nCourse  Coordinator:Mr. Vaibhav S. Bodke \nTarget Group: Officers \nIn Campus/Outstation: In Campus “
URL:https://www.icmpune.org/annual-programme/workshop-on-tax-deducted-at-source-tds-submission-of-15h-15g-further-procedure-submission-of-on-line-returns-for-cooperative-banks-2/?lang=en
END:VEVENT
BEGIN:VEVENT
DTSTART;VALUE=DATE:20240708
DTEND;VALUE=DATE:20240710
DTSTAMP:20260422T182439
CREATED:20240712T074624Z
LAST-MODIFIED:20240712T074624Z
UID:7514-1720396800-1720569599@www.icmpune.org
SUMMARY:Programme on Profitability through effective Branch Management
DESCRIPTION:“Duration:  2 Days\nCapacity: 25 \nSector: Cooperative Credit & Banking \nCourse  Coordinator: Omkar T. Kawade  \nTarget Group: Officers  \nIn Campus/Outstation: In  Campus  ”
URL:https://www.icmpune.org/annual-programme/programme-on-profitability-through-effective-branch-management-2/?lang=en
END:VEVENT
BEGIN:VEVENT
DTSTART;VALUE=DATE:20240710
DTEND;VALUE=DATE:20240713
DTSTAMP:20260422T182439
CREATED:20240712T074624Z
LAST-MODIFIED:20240712T074624Z
UID:7515-1720569600-1720828799@www.icmpune.org
SUMMARY:Programme on Developing PACS into Multipurpose Socieites for-PACS Functionaries Sponsored by NABARD Under SOFTCOB Scheme
DESCRIPTION:“Duration:  3 Days\nCapacity: 25 \nSector: Cooperative Credit & Banking \nCourse  Coordinator:Dr. Devdatta A. Divekar \nTarget Group: PACS Functonaries \nIn Campus/Outstation: In  Campus  ”
URL:https://www.icmpune.org/annual-programme/programme-on-developing-pacs-into-multipurpose-socieites-for-pacs-functionaries-sponsored-by-nabard-under-softcob-scheme-2/?lang=en
END:VEVENT
BEGIN:VEVENT
DTSTART;VALUE=DATE:20240711
DTEND;VALUE=DATE:20240713
DTSTAMP:20260422T182439
CREATED:20240712T074624Z
LAST-MODIFIED:20240712T074624Z
UID:7516-1720656000-1720828799@www.icmpune.org
SUMMARY:Training Programme for Peons/MTS of Cooperative Institution Transform them into Responsible Employees
DESCRIPTION:“Duration:  2 Days\nCapacity: 25 \nSector: Professionalization of cooperatives   \nCourse  Coordinator:  Mr. Vaibhav S. Bodke     Target Group: Peons/MTS\n In Campus/Outstation: In  Campus  ”
URL:https://www.icmpune.org/annual-programme/training-programme-for-peons-mts-of-cooperative-institution-transform-them-into-responsible-employees-3/?lang=en
END:VEVENT
BEGIN:VEVENT
DTSTART;VALUE=DATE:20240718
DTEND;VALUE=DATE:20240720
DTSTAMP:20260422T182439
CREATED:20240712T080358Z
LAST-MODIFIED:20240712T080358Z
UID:7577-1721260800-1721433599@www.icmpune.org
SUMMARY:Leadership Development Programme for Urban Cooperative Bank (UCBs)
DESCRIPTION:“Duration:  2 Days\nCapacity: 25 \nSector: Cooperative Credit & Banking  \nCourse  Coordinator:Mr. J.E. Patki  \nTarget Group:BoD/ Chairman/vice chairman   \nIn Campus/Outstation: In  Campus  ”
URL:https://www.icmpune.org/annual-programme/leadership-development-programme-for-urban-cooperative-bank-ucbs/?lang=en
END:VEVENT
BEGIN:VEVENT
DTSTART;VALUE=DATE:20240722
DTEND;VALUE=DATE:20240725
DTSTAMP:20260422T182439
CREATED:20240712T080359Z
LAST-MODIFIED:20240712T080359Z
UID:7578-1721606400-1721865599@www.icmpune.org
SUMMARY:Programme for Admin/ HR Managers / Officers of Cooperatives
DESCRIPTION:“Duration:  3 Days\nCapacity: 25 \nSector: Professionalization of Cooperatives \nCourse  Coordinator:Mr. Vaibhav S. Bodke \nTarget Group: Officers \nIn Campus/Outstation: In  Campus  ”
URL:https://www.icmpune.org/annual-programme/programme-for-admin-hr-managers-officers-of-cooperatives-3/?lang=en
END:VEVENT
BEGIN:VEVENT
DTSTART;VALUE=DATE:20240725
DTEND;VALUE=DATE:20240727
DTSTAMP:20260422T182439
CREATED:20240712T080400Z
LAST-MODIFIED:20240712T080400Z
UID:7579-1721865600-1722038399@www.icmpune.org
SUMMARY:Programme on RBI Inspection and Compliance aspects of Cooperative Banks
DESCRIPTION:“Duration:  2 Days\nCapacity: 25 \nSector: Cooperative Credit & Banking  \nCourse  Coordinator:Dr. Devdatta A. Divekar \nTarget Group: Officers  \nIn Campus/Outstation: In  Campus  ”
URL:https://www.icmpune.org/annual-programme/programme-on-rbi-inspection-and-compliance-aspects-of-cooperative-banks-3/?lang=en
END:VEVENT
BEGIN:VEVENT
DTSTART;VALUE=DATE:20240801
DTEND;VALUE=DATE:20240803
DTSTAMP:20260422T182439
CREATED:20240712T080401Z
LAST-MODIFIED:20240712T080401Z
UID:7580-1722470400-1722643199@www.icmpune.org
SUMMARY:Programme on Self sustenance through improved Governance and Management of Resources  Sponsored by NABARD Under SOFTCOB Schem
DESCRIPTION:“Duration:  2 Days\nCapacity: 25 \nSector:  Cooperative Credit & Banking \nCourse  Coordinator:Mr. J.E. Patki  \nTarget Group: PACS BoDs \nIn Campus/Outstation: In  Campus  ”
URL:https://www.icmpune.org/annual-programme/programme-on-self-sustenance-through-improved-governance-and-management-of-resources-sponsored-by-nabard-under-softcob-schem/?lang=en
END:VEVENT
BEGIN:VEVENT
DTSTART;VALUE=DATE:20240805
DTEND;VALUE=DATE:20240809
DTSTAMP:20260422T182439
CREATED:20240712T080402Z
LAST-MODIFIED:20240712T080402Z
UID:7581-1722816000-1723161599@www.icmpune.org
SUMMARY:Programme for Newly Recruited Clerks/Trainee Clerks of the Cooperative Banks
DESCRIPTION:“Duration:  4 Days\nCapacity: 25 \nSector:  Cooperative Credit & Banking \nCourse  Coordinator:Omkar T. Kawade  \nTarget Group: Clerical Staff  \nIn Campus/Outstation: In  Campus  ”
URL:https://www.icmpune.org/annual-programme/programme-for-newly-recruited-clerks-trainee-clerks-of-the-cooperative-banks-3/?lang=en
END:VEVENT
BEGIN:VEVENT
DTSTART;VALUE=DATE:20240807
DTEND;VALUE=DATE:20240810
DTSTAMP:20260422T182439
CREATED:20240712T080406Z
LAST-MODIFIED:20240712T080406Z
UID:7582-1722988800-1723247999@www.icmpune.org
SUMMARY:Know Your Customer\, Prevention of Money Laundering and Customer Protection-Br. Managers/Asstt. Managers/Officers of Cooperative Banks Sponsored by NABARD Under SOFTCOB Scheme
DESCRIPTION:“Duration:  3 Days\nCapacity: 25 \nSector: Cooperative Credit & Banking \nCourse  Coordinator:Dr. Devdatta A. Divekar \nTarget Group: Br. Managers/Asst. Managers & Officers  \nIn Campus/Outstation: In  Campus  ”
URL:https://www.icmpune.org/annual-programme/know-your-customer-prevention-of-money-laundering-and-customer-protection-br-managers-asstt-managers-officers-of-cooperative-banks-sponsored-by-nabard-under-softcob-scheme-2/?lang=en
END:VEVENT
BEGIN:VEVENT
DTSTART;VALUE=DATE:20240809
DTEND;VALUE=DATE:20240810
DTSTAMP:20260422T182439
CREATED:20240712T080406Z
LAST-MODIFIED:20240717T091318Z
UID:7583-1723161600-1723247999@www.icmpune.org
SUMMARY:Workshop on NPA calculations for Cooperative Banks
DESCRIPTION:“Duration:  1 Day\nCapacity: 25 \nSector: Cooperative Credit & Banking \nCourse  Coordinator:Mr. Vaibhav S. Bodke \nTarget Group: Officers \nIn Campus/Outstation: In Campus “
URL:https://www.icmpune.org/annual-programme/workshop-on-npa-calculations-for-cooperative-banks-2/?lang=en
END:VEVENT
END:VCALENDAR