BEGIN:VCALENDAR
VERSION:2.0
PRODID:-//Co-operative Management Institute [ICM Pune] - ECPv6.1.3//NONSGML v1.0//EN
CALSCALE:GREGORIAN
METHOD:PUBLISH
X-WR-CALNAME:Co-operative Management Institute [ICM Pune]
X-ORIGINAL-URL:https://www.icmpune.org
X-WR-CALDESC:Events for Co-operative Management Institute [ICM Pune]
REFRESH-INTERVAL;VALUE=DURATION:PT1H
X-Robots-Tag:noindex
X-PUBLISHED-TTL:PT1H
BEGIN:VTIMEZONE
TZID:UTC
BEGIN:STANDARD
TZOFFSETFROM:+0000
TZOFFSETTO:+0000
TZNAME:UTC
DTSTART:20220101T000000
END:STANDARD
END:VTIMEZONE
BEGIN:VEVENT
DTSTART;TZID=UTC:20220316T093000
DTEND;TZID=UTC:20220318T173000
DTSTAMP:20260423T012043
CREATED:20210702T103128Z
LAST-MODIFIED:20210703T050521Z
UID:5137-1647423000-1647624600@www.icmpune.org
SUMMARY:Cash Management and Fake note detection for Clerks / Cashiers of DCCBs - NABRAD Sponsored SOFTCOB Programme
DESCRIPTION:
URL:https://www.icmpune.org/annual-programme/cash-management-and-fake-note-detection-for-clerks-cashiers-of-dccbs-nabrad-sponsored-softcob-programme/
CATEGORIES:सहकारी ऋण और बैंकिंग
END:VEVENT
END:VCALENDAR