BEGIN:VCALENDAR
VERSION:2.0
PRODID:-//Co-operative Management Institute [ICM Pune] - ECPv6.1.3//NONSGML v1.0//EN
CALSCALE:GREGORIAN
METHOD:PUBLISH
X-WR-CALNAME:Co-operative Management Institute [ICM Pune]
X-ORIGINAL-URL:https://www.icmpune.org/?lang=en
X-WR-CALDESC:Events for Co-operative Management Institute [ICM Pune]
REFRESH-INTERVAL;VALUE=DURATION:PT1H
X-Robots-Tag:noindex
X-PUBLISHED-TTL:PT1H
BEGIN:VTIMEZONE
TZID:America/Indiana/Indianapolis
BEGIN:DAYLIGHT
TZOFFSETFROM:-0500
TZOFFSETTO:-0400
TZNAME:EDT
DTSTART:20250309T070000
END:DAYLIGHT
BEGIN:STANDARD
TZOFFSETFROM:-0400
TZOFFSETTO:-0500
TZNAME:EST
DTSTART:20251102T060000
END:STANDARD
BEGIN:DAYLIGHT
TZOFFSETFROM:-0500
TZOFFSETTO:-0400
TZNAME:EDT
DTSTART:20260308T070000
END:DAYLIGHT
BEGIN:STANDARD
TZOFFSETFROM:-0400
TZOFFSETTO:-0500
TZNAME:EST
DTSTART:20261101T060000
END:STANDARD
END:VTIMEZONE
BEGIN:VEVENT
DTSTART;VALUE=DATE:20250226
DTEND;VALUE=DATE:20250301
DTSTAMP:20260422T184913
CREATED:20240712T082721Z
LAST-MODIFIED:20240712T082721Z
UID:7783-1740528000-1740787199@www.icmpune.org
SUMMARY:Programme for newly recruited staff of Cooperative Banks
DESCRIPTION:“Duration:  3 Days\nCapacity: 25 \nSector: Professionalization of cooperatives \nCourse  Coordinator:Mr. Vaibhav S. Bodke  \nTarget Group: Newly recruited staff  \nIn Campus/Outstation: In  Campus  ”
URL:https://www.icmpune.org/annual-programme/programme-for-newly-recruited-staff-of-cooperative-banks/?lang=en
END:VEVENT
BEGIN:VEVENT
DTSTART;VALUE=DATE:20250226
DTEND;VALUE=DATE:20250301
DTSTAMP:20260422T184913
CREATED:20240712T082722Z
LAST-MODIFIED:20240712T082722Z
UID:7784-1740528000-1740787199@www.icmpune.org
SUMMARY:Programme for Certified Auditors of Cooperative of Maharshtra State (in colloboration with Maharashtra State Certified Auditor Association)
DESCRIPTION:“Duration:  3 Days\nCapacity: 25 \nSector: Audit and Stasistics   \nCourse  Coordinator:Omkar T. Kawade Dr. Devdatta  \nTarget Group: Certified Auditors \nIn Campus/Outstation: In  Campus  ”
URL:https://www.icmpune.org/annual-programme/programme-for-certified-auditors-of-cooperative-of-maharshtra-state-in-colloboration-with-maharashtra-state-certified-auditor-association-5/?lang=en
END:VEVENT
BEGIN:VEVENT
DTSTART;VALUE=DATE:20250303
DTEND;VALUE=DATE:20250306
DTSTAMP:20260422T184913
CREATED:20240712T082722Z
LAST-MODIFIED:20240712T082722Z
UID:7785-1740960000-1741219199@www.icmpune.org
SUMMARY:Programme on Business Development Plan  for PACS Sponsored by NABARD Under SOFTCOB Scheme
DESCRIPTION:“Duration:  3 Days\nCapacity: 25 \nSector: Cooperative Credit & Banking \nCourse  Coordinator:Mr. J.E. Patki   \nTarget Group: PACS Secreteries \nIn Campus/Outstation: In  Campus  ”
URL:https://www.icmpune.org/annual-programme/programme-on-business-development-plan-for-pacs-sponsored-by-nabard-under-softcob-scheme/?lang=en
END:VEVENT
BEGIN:VEVENT
DTSTART;VALUE=DATE:20250310
DTEND;VALUE=DATE:20250313
DTSTAMP:20260422T184913
CREATED:20240712T082723Z
LAST-MODIFIED:20240712T082723Z
UID:7786-1741564800-1741823999@www.icmpune.org
SUMMARY:Programme on Attachment and Execution of Property as per Securitization Act and MCS Act 1960/61 Under Section 49\, 100\, 91\, 101\, 155\, 156 and Rule 107 for SRO's of DCCBs & UCBs
DESCRIPTION:“Duration:  3 Days\nCapacity: 25 \nSector: Cooperative Credit & Banking  \nCourse  Coordinator:Mr. Vaibhav S. Bodke  \nTarget Group: Sr. Recvoery Officers  \nIn Campus/Outstation: In  Campus  ”
URL:https://www.icmpune.org/annual-programme/programme-on-attachment-and-execution-of-property-as-per-securitization-act-and-mcs-act-1960-61-under-section-49-100-91-101-155-156-and-rule-107-for-sros-of-dccbs-ucbs-2/?lang=en
END:VEVENT
BEGIN:VEVENT
DTSTART;VALUE=DATE:20250317
DTEND;VALUE=DATE:20250320
DTSTAMP:20260422T184913
CREATED:20240712T082724Z
LAST-MODIFIED:20240712T082724Z
UID:7787-1742169600-1742428799@www.icmpune.org
SUMMARY:Management Development Programme  Sponsored by NABARD Under SOFTCOB Scheme
DESCRIPTION:“Duration:  3 Days\nCapacity: 25 \nSector: Cooperative Credit & Banking \nCourse  Coordinator:DMr. J.E. Patki   \nTarget Group:  Sr. Officers/ Managers of Banks \nIn Campus/Outstation: In  Campus  ”
URL:https://www.icmpune.org/annual-programme/management-development-programme-sponsored-by-nabard-under-softcob-scheme/?lang=en
END:VEVENT
BEGIN:VEVENT
DTSTART;VALUE=DATE:20250320
DTEND;VALUE=DATE:20250322
DTSTAMP:20260422T184913
CREATED:20240712T082729Z
LAST-MODIFIED:20240729T081732Z
UID:7788-1742428800-1742601599@www.icmpune.org
SUMMARY:Programme on Cooperative Law\, practice and Allied Law for Certified Auditors (in colloboration with Maharashtra State Certified Auditor Association)
DESCRIPTION:“Duration:  2 Days\nCapacity: 25 \nSector: Cooperative Credit & Banking \nCourse  Coordinator:Omkar T. Kawade \nTarget Group: Certified Auditors \nIn Campus/Outstation: In Campus “
URL:https://www.icmpune.org/annual-programme/programme-on-cooperative-law-practice-and-allied-law-for-certified-auditors-in-colloboration-with-maharashtra-state-certified-auditor-association/?lang=en
END:VEVENT
BEGIN:VEVENT
DTSTART;VALUE=DATE:20250325
DTEND;VALUE=DATE:20250328
DTSTAMP:20260422T184913
CREATED:20240712T082729Z
LAST-MODIFIED:20240712T082729Z
UID:7789-1742860800-1743119999@www.icmpune.org
SUMMARY:Programme on Common Accounting System - Management Information System (CAS - MIS) for PACS Sponsored by NABARD Under SOFTCOB Scheme
DESCRIPTION:“Duration:  3 Days\nCapacity: 25 \nSector: Cooperative Credit & Banking \nCourse  Coordinator:Mr. J.E. Patki   \nTarget Group: PACS Secreteries \nIn Campus/Outstation: In  Campus  ”
URL:https://www.icmpune.org/annual-programme/programme-on-common-accounting-system-management-information-system-cas-mis-for-pacs-sponsored-by-nabard-under-softcob-scheme-2/?lang=en
END:VEVENT
BEGIN:VEVENT
DTSTART;VALUE=DATE:20250707
DTEND;VALUE=DATE:20250908
DTSTAMP:20260422T184913
CREATED:20250810T050440Z
LAST-MODIFIED:20250810T050440Z
UID:8468-1751846400-1757289599@www.icmpune.org
SUMMARY:Basic Computer training with emphasis on Technological adoption in PACS - SOFTCOB
DESCRIPTION:“Duration: 3 Days\nCapacity:  \nSector: Cooperative Credit & Banking \nCourse  Coordinator:Dr. Devdatta A. Divekar  \nTarget Group: Bank Officials  \nIn Campus/Outstation: In Campus”
URL:https://www.icmpune.org/annual-programme/basic-computer-training-with-emphasis-on-technological-adoption-in-pacs-softcob/?lang=en
END:VEVENT
BEGIN:VEVENT
DTSTART;VALUE=DATE:20250725
DTEND;VALUE=DATE:20250727
DTSTAMP:20260422T184913
CREATED:20240704T085146Z
LAST-MODIFIED:20240704T090742Z
UID:7460-1753401600-1753574399@www.icmpune.org
SUMMARY:Programme on NPA Calculation for Cooperatives Societies
DESCRIPTION:Duration:  2 Days \nCapacity: 25 \nSector: Cooperative Credit & Banking\n \nCourse  Coordinator:Omkar T. Kawade\n \nTarget Group: Officers \nIn Campus/Outstation: In Campus
URL:https://www.icmpune.org/annual-programme/programme-on-npa-calculation-for-cooperatives-societies-2/?lang=en
END:VEVENT
BEGIN:VEVENT
DTSTART;VALUE=DATE:20250728
DTEND;VALUE=DATE:20250731
DTSTAMP:20260422T184913
CREATED:20250810T050441Z
LAST-MODIFIED:20250810T051443Z
UID:8469-1753660800-1753919999@www.icmpune.org
SUMMARY:Programme on Cyber Crime and Digital Banking- SOFTCOB
DESCRIPTION:“Duration: 3 Days\nCapacity: \nSector: Cooperative Credit & Banking \nCourse  Coordinator:Dr. Devdatta A. Divekar \nTarget Group: Newly promoted clerks \nIn Campus/Outstation: In Campus”
URL:https://www.icmpune.org/annual-programme/programme-on-cyber-crime-and-digital-banking-softcob/?lang=en
END:VEVENT
BEGIN:VEVENT
DTSTART;VALUE=DATE:20250811
DTEND;VALUE=DATE:20250814
DTSTAMP:20260422T184913
CREATED:20250810T050441Z
LAST-MODIFIED:20250810T051550Z
UID:8470-1754870400-1755129599@www.icmpune.org
SUMMARY:Basic Computer & Internet for Functionaries of PACS- SOFTCOB
DESCRIPTION:“Duration: 3 Days\nCapacity: \nSector: Cooperative Credit & Banking \nCourse  Coordinator:Dr. Devdatta A. Divekar \nTarget Group: PACS Functionaries \nIn Campus/Outstation: In Campus”
URL:https://www.icmpune.org/annual-programme/basic-computer-internet-for-functionaries-of-pacs-softcob/?lang=en
END:VEVENT
BEGIN:VEVENT
DTSTART;VALUE=DATE:20250818
DTEND;VALUE=DATE:20250820
DTSTAMP:20260422T184913
CREATED:20250810T050442Z
LAST-MODIFIED:20250810T051616Z
UID:8471-1755475200-1755647999@www.icmpune.org
SUMMARY:Programme on Risk Based Internal Audit for Cooperative Banks
DESCRIPTION:“Duration: 2 Days\nCapacity: \nSector: Cooperative Credit & Banking \nCourse  Coordinator:Dr. Devdatta A. Divekar \nTarget Group: Officers \nIn Campus/Outstation: In Campus “
URL:https://www.icmpune.org/annual-programme/programme-on-risk-based-internal-audit-for-cooperative-banks-4/?lang=en
END:VEVENT
BEGIN:VEVENT
DTSTART;VALUE=DATE:20250908
DTEND;VALUE=DATE:20250911
DTSTAMP:20260422T184913
CREATED:20250810T050442Z
LAST-MODIFIED:20250810T051704Z
UID:8472-1757289600-1757548799@www.icmpune.org
SUMMARY:Hands on Training Programee on basic Computer\, GSTN Portal / Income Tax related issues for the officials of PACS- SOFTCOB
DESCRIPTION:“Duration: 3 Days\nCapacity: \nSector: Cooperative Credit & Banking \nCourse  Coordinator:Dr. Devdatta A. Divekar \nTarget Group: PACS Functionaries \nIn Campus/Outstation: In Campus”
URL:https://www.icmpune.org/annual-programme/hands-on-training-programee-on-basic-computer-gstn-portal-income-tax-related-issues-for-the-officials-of-pacs-softcob/?lang=en
END:VEVENT
BEGIN:VEVENT
DTSTART;VALUE=DATE:20250924
DTEND;VALUE=DATE:20250926
DTSTAMP:20260422T184913
CREATED:20250810T050444Z
LAST-MODIFIED:20250810T051834Z
UID:8473-1758672000-1758844799@www.icmpune.org
SUMMARY:Programme on RBI Inspection and Compliance aspects of Cooperative Banks
DESCRIPTION:“Duration: 2 Days\nCapacity: \nSector: Cooperative Credit & Banking \nCourse  Coordinator:Dr. Devdatta A. Divekar \nTarget Group: Officers \nIn Campus/Outstation: In Campus “
URL:https://www.icmpune.org/annual-programme/programme-on-rbi-inspection-and-compliance-aspects-of-cooperative-banks-5/?lang=en
END:VEVENT
BEGIN:VEVENT
DTSTART;VALUE=DATE:20251008
DTEND;VALUE=DATE:20251011
DTSTAMP:20260422T184913
CREATED:20250810T050444Z
LAST-MODIFIED:20250810T051922Z
UID:8474-1759881600-1760140799@www.icmpune.org
SUMMARY:Programme on Digital Banking and cyber security- SOFTCOB
DESCRIPTION:“Duration: 3 Days\nCapacity: \nSector: Cooperative Credit & Banking \nCourse  Coordinator:Dr. Devdatta A. Divekar \nTarget Group: Executive Assistants and Jr. Clerks of all Cooperative Banks \nIn Campus/Outstation: In Campus”
URL:https://www.icmpune.org/annual-programme/programme-on-digital-banking-and-cyber-security-softcob/?lang=en
END:VEVENT
BEGIN:VEVENT
DTSTART;VALUE=DATE:20251030
DTEND;VALUE=DATE:20251101
DTSTAMP:20260422T184913
CREATED:20250810T050444Z
LAST-MODIFIED:20250810T051957Z
UID:8475-1761782400-1761955199@www.icmpune.org
SUMMARY:Programme on Treasury and Investment Management for Cooperative Banks
DESCRIPTION:“Duration: 2 Days\nCapacity: \nSector: Cooperative Credit & Banking \nCourse  Coordinator:Dr. Devdatta A. Divekar \nTarget Group: Officers \nIn Campus/Outstation: In Campus “
URL:https://www.icmpune.org/annual-programme/programme-on-treasury-and-investment-management-for-cooperative-banks-3/?lang=en
END:VEVENT
BEGIN:VEVENT
DTSTART;VALUE=DATE:20251110
DTEND;VALUE=DATE:20251113
DTSTAMP:20260422T184913
CREATED:20250810T050444Z
LAST-MODIFIED:20250810T052032Z
UID:8476-1762732800-1762991999@www.icmpune.org
SUMMARY:Programme on Technology driven payment system- SOFTCOB
DESCRIPTION:“Duration: 3 Days\nCapacity: \nSector: Cooperative Credit & Banking \nCourse  Coordinator:Dr. Devdatta A. Divekar \nTarget Group: Bank Officials \nIn Campus/Outstation: In Campus”
URL:https://www.icmpune.org/annual-programme/programme-on-technology-driven-payment-system-softcob/?lang=en
END:VEVENT
BEGIN:VEVENT
DTSTART;VALUE=DATE:20251201
DTEND;VALUE=DATE:20251204
DTSTAMP:20260422T184913
CREATED:20250810T050444Z
LAST-MODIFIED:20250810T052123Z
UID:8477-1764547200-1764806399@www.icmpune.org
SUMMARY:Programme on IT & IS Security Policy and Prevention of Cyber Frauds/ Crimes- SOFTCOB
DESCRIPTION:“Duration: 3 Days\nCapacity: \nSector: Cooperative Credit & Banking \nCourse  Coordinator:Dr. Devdatta A. Divekar \nTarget Group: Branch Managers / IT Officers \nIn Campus/Outstation: In Campus”
URL:https://www.icmpune.org/annual-programme/programme-on-it-is-security-policy-and-prevention-of-cyber-frauds-crimes-softcob/?lang=en
END:VEVENT
BEGIN:VEVENT
DTSTART;VALUE=DATE:20260107
DTEND;VALUE=DATE:20260110
DTSTAMP:20260422T184913
CREATED:20250810T052756Z
LAST-MODIFIED:20250810T052756Z
UID:8497-1767744000-1768003199@www.icmpune.org
SUMMARY:Cyber Crime and Cyber Security and prevention of frauds- SOFTCOB
DESCRIPTION:Duration: 3 Days\nCapacity:  \nSector: Cooperative Credit & Banking \nCourse  Coordinator:Dr. Devdatta A. Divekar  \nTarget Group: PACS Functionaries  \nIn Campus/Outstation: In Campus
URL:https://www.icmpune.org/annual-programme/cyber-crime-and-cyber-security-and-prevention-of-frauds-softcob/?lang=en
END:VEVENT
BEGIN:VEVENT
DTSTART;VALUE=DATE:20260120
DTEND;VALUE=DATE:20260123
DTSTAMP:20260422T184913
CREATED:20250810T052756Z
LAST-MODIFIED:20250810T052756Z
UID:8498-1768867200-1769126399@www.icmpune.org
SUMMARY:Programme on Effective Use of MS-Excel by Officers and Managers of HR Department
DESCRIPTION:Duration: 3 Days\nCapacity:  \nSector: Information Technology  \nCourse  Coordinator:Dr. Devdatta A. Divekar  \nTarget Group: Auditors   \nIn Campus/Outstation: In Campus
URL:https://www.icmpune.org/annual-programme/programme-on-effective-use-of-ms-excel-by-officers-and-managers-of-hr-department-2/?lang=en
END:VEVENT
END:VCALENDAR