BEGIN:VCALENDAR
VERSION:2.0
PRODID:-//Co-operative Management Institute [ICM Pune] - ECPv6.1.3//NONSGML v1.0//EN
CALSCALE:GREGORIAN
METHOD:PUBLISH
X-WR-CALNAME:Co-operative Management Institute [ICM Pune]
X-ORIGINAL-URL:https://www.icmpune.org/?lang=en
X-WR-CALDESC:Events for Co-operative Management Institute [ICM Pune]
REFRESH-INTERVAL;VALUE=DURATION:PT1H
X-Robots-Tag:noindex
X-PUBLISHED-TTL:PT1H
BEGIN:VTIMEZONE
TZID:America/Indiana/Indianapolis
BEGIN:DAYLIGHT
TZOFFSETFROM:-0500
TZOFFSETTO:-0400
TZNAME:EDT
DTSTART:20240310T070000
END:DAYLIGHT
BEGIN:STANDARD
TZOFFSETFROM:-0400
TZOFFSETTO:-0500
TZNAME:EST
DTSTART:20241103T060000
END:STANDARD
END:VTIMEZONE
BEGIN:VEVENT
DTSTART;VALUE=DATE:20240902
DTEND;VALUE=DATE:20240904
DTSTAMP:20260422T014222
CREATED:20240712T081112Z
LAST-MODIFIED:20240712T081112Z
UID:7643-1725235200-1725407999@www.icmpune.org
SUMMARY:Programme on Business Development Plan for Fisheries Cooperatives.
DESCRIPTION:“Duration:  2 Days\nCapacity: 25 \nSector: Cooperative Credit & Banking \nCourse  Coordinator:Omkar T. Kawade  \nTarget Group: Officers \nIn Campus/Outstation: In  Campus  ”
URL:https://www.icmpune.org/annual-programme/programme-on-business-development-plan-for-fisheries-cooperatives-2/?lang=en
END:VEVENT
BEGIN:VEVENT
DTSTART;VALUE=DATE:20240909
DTEND;VALUE=DATE:20240914
DTSTAMP:20260422T014222
CREATED:20240712T081113Z
LAST-MODIFIED:20240712T081113Z
UID:7644-1725840000-1726271999@www.icmpune.org
SUMMARY:Programme for Project Appraisal and Loan Documentation – Non Farm Sector  Sponsored by NABARD Under SOFTCOB Scheme
DESCRIPTION:“Duration:  5 Days\nCapacity: 25 \nSector: Cooperative Credit & Banking  \nCourse  Coordinator:Mr. J.E. Patki  \nTarget Group: Officers of Bank  \nIn Campus/Outstation: In  Campus  ”
URL:https://www.icmpune.org/annual-programme/programme-for-project-appraisal-and-loan-documentation-non-farm-sector-sponsored-by-nabard-under-softcob-scheme/?lang=en
END:VEVENT
BEGIN:VEVENT
DTSTART;VALUE=DATE:20240912
DTEND;VALUE=DATE:20240914
DTSTAMP:20260422T014222
CREATED:20240712T081114Z
LAST-MODIFIED:20240712T081114Z
UID:7645-1726099200-1726271999@www.icmpune.org
SUMMARY:Leadership Development Programme for Women Managers/Officers of Cooperative Banks
DESCRIPTION:“Duration:  2 Days\nCapacity: 25 \nSector: Cooperative Credit & Banking \nCourse  Coordinator:Mr. Vaibhav S. Bodke \nTarget Group: Managers/Officers  \nIn Campus/Outstation: In  Campus  ”
URL:https://www.icmpune.org/annual-programme/leadership-development-programme-for-women-managers-officers-of-cooperative-banks-3/?lang=en
END:VEVENT
BEGIN:VEVENT
DTSTART;VALUE=DATE:20240918
DTEND;VALUE=DATE:20240921
DTSTAMP:20260422T014222
CREATED:20240712T081115Z
LAST-MODIFIED:20240712T081115Z
UID:7646-1726617600-1726876799@www.icmpune.org
SUMMARY:Programme on Preparation of Balance Sheet and Profit and Loss Account  Sponsored by NABARD Under SOFTCOB Scheme
DESCRIPTION:“Duration:  3 Days\nCapacity: 25 \nSector: Cooperative Credit & Banking \nCourse  Coordinator:Mr. J.E. Patki  \nTarget Group: Officers of Bank   \nIn Campus/Outstation: In  Campus  ”
URL:https://www.icmpune.org/annual-programme/programme-on-preparation-of-balance-sheet-and-profit-and-loss-account-sponsored-by-nabard-under-softcob-scheme/?lang=en
END:VEVENT
BEGIN:VEVENT
DTSTART;VALUE=DATE:20240925
DTEND;VALUE=DATE:20240928
DTSTAMP:20260422T014222
CREATED:20240712T081119Z
LAST-MODIFIED:20240712T081119Z
UID:7647-1727222400-1727481599@www.icmpune.org
SUMMARY:Programme on Business Development Plan  for PACS Secretaries Sponsored by NABARD Under SOFTCOB Scheme
DESCRIPTION:“Duration:  3 Days\nCapacity: 25 \nSector: Cooperative Credit & Banking \nCourse  Coordinator:Dr. Devdatta A. Divekar \nTarget Group: PACS Secretaries \nIn Campus/Outstation: In  Campus  ”
URL:https://www.icmpune.org/annual-programme/programme-on-business-development-plan-for-pacs-secretaries-sponsored-by-nabard-under-softcob-scheme/?lang=en
END:VEVENT
END:VCALENDAR